Workbook
Name MasterSource: #REF!:INDEX(#REF!, COUNTA(#REF!), COUNTA(#REF!))

Sheet PRJ-ACC
A1: 1 | B1: 2 | C1: 3 | D1: 4 | E1: 5 | F1: 6 | G1: 7 | H1: 8 | I1: 9 | J1: 10 | K1: 11 | L1: 12 | M1: 13 | N1: 14 | O1: 15 | P1: 16 | Q1: 17 | R1: 18 | S1: 19 | T1: 20 | U1: 21 | V1: 22
A2: Effective | B2: 46266 | M2: BQca_Acc | N2: BQca_Acc | O2: BQca_Acc_Amazon | S2: BQus_ACC | T2: BQus_ACC | U2: BQus_ACC-AMZ
A4: P/N | B4: LOB | C4: Status | D4: Series | E4: Description | F4: UPC Code | G4: Warranty | H4: Weight (lbs) | I4: Cost | J4: Jan'23 NS ITP (CAD) | K4: Feb'23 NS ITP (CAD) | L4: Delta | M4: MAP CAD | N4: ASP CAD | O4: Amazon ASP CAD | P4: Jam'23 NS ITP | Q4: Feb'23 NS ITP | R4: Delta | S4: MAP US$ | T4: BQAA ASP US$ | U4: Amazon ASP | V4: Reseller ASP US$ | X4: Date | Y4: Comment | AB4: Cost | AC4: NGM
A5: 5J.J0405.001 | C5: Limited supply | D5: Lamp | E5: Replacement Lamp for MP776 MP777 MP776ST | F5: 8400460-1685-2 | G5: 90 Days or 500 hours | H5: 0.7 | J5: $ 203.15 | K5: $ 203.15 | M5: 286.8 | N5: 239 | O5: 256.07 | P5: $ 198.54 | Q5: $ 198.54 | S5: 299 | T5: 239 | U5: 263.12 | V5: 257 | AB5: 118.75 | AC5: 0.5
A6: 5J.J0T05.001 | C6: Limited supply | D6: Lamp | E6: Replacement Lamp for MP772ST/MP782ST | F6: 8400460-1686-9 | G6: 90 Days or 500 hours | H6: 0.7 | J6: $ 101.15 | K6: $ 101.15 | M6: 142.8 | N6: 119 | O6: 127.5 | P6: $ 98.94 | Q6: $ 98.94 | S6: 149 | T6: 119 | U6: 131.12 | V6: 128 | AB6: 61.25 | AC6: 0.49
A7: 5J.J1V05.001 | C7: Limited supply | D7: Lamp | E7: Replacement Lamp for MP575/MP525p/MP525ST | F7: 8400460-1705-7 | G7: 90 Days or 500 hours | H7: 0.3 | J7: $ 135.15 | K7: $ 135.15 | M7: 190.8 | N7: 159 | O7: 170.36 | P7: $ 132.14 | Q7: $ 132.14 | S7: 199 | T7: 159 | U7: 175.12 | V7: 171 | AB7: 61.25 | AC7: 0.62
A8: 5J.J1X05.001 | C8: Limited supply | D8: Lamp | E8: Replacement Lamp for MP626 | F8: 8400460-1838-2 | G8: 90 Days or 500 hours | H8: 0.8 | J8: $ 135.15 | K8: $ 135.15 | M8: 190.8 | N8: 159 | O8: 170.36 | P8: $ 132.14 | Q8: $ 132.14 | S8: 199 | T8: 159 | U8: 175.12 | V8: 171 | AB8: 68.75 | AC8: 0.57
A9: 5J.J2D05.011 | C9: Limited supply | D9: Lamp | E9: Replacement Lamp "2" for SP920P | F9: 8400460-1689-0 | G9: 90 Days or 500 hours | H9: 0.4 | J9: $ 271.15 | K9: $ 271.15 | M9: 382.8 | N9: 319 | O9: 341.79 | P9: $ 264.94 | Q9: $ 264.94 | S9: 399 | T9: 319 | U9: 351.12 | V9: 343 | AB9: 125 | AC9: 0.61
A10: 5J.J2S05.001 | C10: Limited supply | D10: Lamp | E10: Replacement Lamp for MP615P/MP625P | F10: 8400460-1982-2 | G10: 90 Days or 500 hours | H10: 0.8 | J10: $ 135.15 | K10: $ 135.15 | M10: 190.8 | N10: 159 | O10: 170.36 | P10: $ 132.14 | Q10: $ 132.14 | S10: 199 | T10: 159 | U10: 175.12 | V10: 171 | AB10: 67.5 | AC10: 0.58
A11: 5J.J3L05.001 | C11: Limited supply | D11: Lamp | E11: Replacement Lamp for MX810 ST(MX713 ST) MW714 ST PRJ | F11: 8400460-2103-0 | G11: 90 Days or 500 hours | H11: 0.7 | J11: $ 101.15 | K11: $ 101.15 | M11: 142.8 | N11: 119 | O11: 127.5 | P11: $ 98.94 | Q11: $ 98.94 | S11: 149 | T11: 119 | U11: 131.12 | V11: 128 | AB11: 61.25 | AC11: 0.49
A12: 5J.J4L05.021 | C12: Limited supply | D12: Lamp | E12: Replacement Lamp "2" for SH960 | F12: 8400460-2331-7 | G12: 90 Days or 500 hours | H12: 0.7 | J12: $ 424.29 | K12: $ 424.29 | M12: 599 | N12: 499.17 | O12: 534.82 | P12: $ 331.34 | Q12: $ 331.34 | S12: 499 | T12: 399 | U12: 439.12 | V12: 429 | AB12: 225 | AC12: 0.44
A13: 5J.J4N05.001 | C13: Limited supply | D13: Lamp | E13: Replacement Lamp for MX763/ MX764 / MX717 | F13: 8400460-2260-0 | G13: 90 Days or 500 hours | H13: 0.8 | J13: $ 233.04 | K13: $ 233.04 | M13: 329 | N13: 274.17 | O13: 293.75 | P13: $ 165.34 | Q13: $ 165.34 | S13: 249 | T13: 199 | U13: 219.12 | V13: 214 | AB13: 112.5 | AC13: 0.44
A14: 5J.J4R05.001 | C14: Limited supply | D14: Lamp | E14: Replacement Lamp for MX813ST/MW712 | F14: 8400460-2262-4 | G14: 90 Days or 500 hours | H14: 0.3 | J14: $ 101.15 | K14: $ 101.15 | M14: 142.8 | N14: 119 | O14: 127.5 | P14: $ 98.94 | Q14: $ 98.94 | S14: 149 | T14: 119 | U14: 131.12 | V14: 128 | AB14: 76.25 | AC14: 0.36
A15: 5J.J5R05.001 | C15: Limited supply | D15: Lamp | E15: LAMP MODULE MX701 PRJ | F15: 8400460-2391-1 | G15: 90 Days or 500 hours | H15: 0.8 | J15: $ 135.15 | K15: $ 135.15 | M15: 190.8 | N15: 159 | O15: 170.36 | P15: $ 132.14 | Q15: $ 132.14 | S15: 199 | T15: 159 | U15: 175.12 | V15: 171 | AB15: 53.75 | AC15: 0.66
A16: 5J.J5X05.001 | C16: Limited supply | D16: Lamp | E16: LAMP MODULE MX716 PRJ | F16: 8400460-2390-4 | G16: 90 Days or 500 hours | H16: 0.7 | J16: $ 203.15 | K16: $ 203.15 | M16: 286.8 | N16: 239 | O16: 256.07 | P16: $ 198.54 | Q16: $ 198.54 | S16: 299 | T16: 239 | U16: 263.12 | V16: 257 | AB16: 81.25 | AC16: 0.66
... A28: 5J.J8J05.001 | C28: Limited Supply | D28: Lamp | E28: Replacement Lamp for MW663 | F28: 8400460-2808-4 | G28: 90 Days or 500 hours | H28: 0.8 | J28: $ 135.99 | K28: $ 135.99 | M28: 191.99 | N28: 159.99 | O28: 171.42 | P28: $ 132.14 | Q28: $ 132.14 | S28: 199 | T28: 159 | U28: 175.12 | V28: 171 | AB28: 61.25 | AC28: 0.62
A29: 5J.J8M05.A01 | B29: PJE | D29: Lamp | E29: Replacement Lamp for MX852UST/ MW853UST / MX852UST+ / MW853UST+ (Replace 5J.J8M05.011) | F29: 8400460-4115-1 | G29: 90 Days or 500 hours | H29: 1 | J29: $ 126.65 | K29: $ 126.65 | M29: 178.8 | N29: 149 | O29: 159.64 | P29: $ 98.94 | Q29: $ 98.94 | S29: 149 | T29: 119 | U29: 131.12 | V29: 128 | AB29: 68.75 | AC29: 0.42
A30: 5J.JAG05.001 | C30: Limited supply | D30: Lamp | E30: Replacement Lamp for MX600 | F30: 8400460-2925-8 | G30: 90 Days or 500 hours | H30: 0.8 | J30: $ 135.15 | K30: $ 135.15 | M30: 190.8 | N30: 159 | O30: 170.36 | P30: $ 132.14 | Q30: $ 132.14 | S30: 199 | T30: 159 | U30: 175.12 | V30: 171 | AB30: 61.25 | AC30: 0.62
A31: 5J.JAM05.001 | C31: Limited supply | D31: Lamp | E31: Replacement Lamp for PX9600 / PW9500, PU9530, PW9520, PX9510 | F31: 8400460-2948-7 | G31: 90 Days or 500 hours | H31: N/A | J31: $ 407.15 | K31: $ 407.15 | M31: 574.8 | N31: 479 | O31: 513.21 | P31: $ 298.14 | Q31: $ 298.14 | S31: 449 | T31: 359 | U31: 395.12 | V31: 386 | AB31: 240 | AC31: 0.33
A32: 5J.JCM05.A01 | B32: PJB | D32: Lamp | E32: Replacement Lamp for MX726, MW727 (Replace 5J.JCM05.001) | F32: 8400460-4212-7 | G32: 90 Days or 500 hours | J32: $ 169.99 | K32: $ 169.99 | M32: 239.99 | N32: 199.99 | O32: 214.28 | P32: $ 165.34 | Q32: $ 165.34 | S32: 249 | T32: 199 | U32: 219.12 | V32: 214 | AB32: #N/A | AC32: #N/A
A33: 5J.JCT05.A01 | B33: PJB | D33: Lamp | E33: Replacement Lamp for SU917 (Replace 5J.JCT05.001) | F33: 8400460-4312-4 | G33: 90 Days or 500 hours | H33: 1 | J33: $ 318.04 | K33: $ 318.04 | M33: 449 | N33: 374.17 | O33: 400.89 | P33: $ 231.74 | Q33: $ 231.74 | S33: 349 | T33: 279 | U33: 307.12 | V33: 300 | AB33: 137.5 | AC33: 0.51
A34: 5J.JCV05.A01 | B34: PJB | D34: Lamp | E34: Replacement Lamp for MX723 (Replace 5J.JCV05.001) | F34: 8400460-4118-2 | G34: 90 Days or 500 hours | H34: 1 | J34: $ 169.99 | K34: $ 169.99 | M34: 239.99 | N34: 199.99 | O34: 214.28 | P34: $ 165.34 | Q34: $ 165.34 | S34: 249 | T34: 199 | U34: 219.12 | V34: 214 | AB34: #N/A | AC34: #N/A
A35: 5J.JEA05.A01 | B35: PJB | D35: Lamp | E35: Replacement Lamp for MH741 (Replace 5J.JEA05.001) | F35: 8400460-4117-5 | G35: 90 Days or 500 hours | I35: 75 | K35: $ 169.99 | M35: 239.99 | N35: 199.99 | O35: 214.28 | P35: $ 165.34 | Q35: $ 165.34 | S35: 249 | T35: 199 | U35: 219.12 | V35: 214
A36: 5J.JED05.A01 | B36: PJC | D36: Lamp | E36: Replacement Lamp for HT1070, W1090 (Canada BestBuy only), BH3020 (B&H only) (Replace 5J.JED05.001) | F36: 8400460-4119-9 | G36: 90 Days or 500 hours | H36: 0.8 | I36: 77 | J36: $ 183.46 | K36: $ 183.46 | M36: 259 | N36: 215.83 | O36: 231.25 | Q36: $ 132.14 | S36: 199 | T36: 159 | U36: 175.12 | V36: 171 | AB36: 75 | AC36: 0.53
A37: 5J.JEE05.A01 | B37: PJC | C37: Updated | D37: Lamp | E37: Replacement Lamp for HT2050, HT3050, HT2150ST, HT2050A | F37: 8400460-4887-7 | G37: 90 Days or 500 hours | I37: 70 | K37: 169.99 | M37: 239.99 | N37: 199.99 | O37: 214.28 | Q37: 165.34 | S37: 249 | T37: 199 | U37: 219.12 | V37: 214
A38: 5J.JEL05.A01 | B38: PJC | D38: Lamp | E38: Replacement Lamp for TH670 | F38: 8400460-4311-7 | G38: 90 Days or 500 hours | I38: 69.37 | J38: $ 176.38 | K38: 176.38 | M38: 249 | N38: 207.5 | O38: 222.32 | P38: $ 132.14 | Q38: $ 132.14 | S38: 199 | T38: 159 | U38: 175.12 | V38: 171 | AB38: 68.75 | AC38: 0.57
A39: 5J.JFG05.A01 | B39: PJB | D39: Lamp | E39: Replacement Lamp for MH750 (Replace 5J.JFG05.001) | F39: 8400460-3489-4 | G39: 90 Days or 500 hours | J39: $ 275.54 | K39: $ 275.54 | M39: 389 | N39: 324.17 | O39: 347.32 | P39: $ 198.54 | Q39: $ 198.54 | S39: 299 | T39: 239 | V39: 257 | AB39: #N/A | AC39: #N/A
A40: 5J.JFR05.001 | C40: Limited supply | D40: Lamp | E40: Replacement Lamp for MS527E, MX528E, MW529E, MS517EH (BestBuy Canada only) | F40: 8400460-3507-5 | G40: 90 Days or 500 hours | J40: $ 176.38 | K40: $ 176.38 | M40: 249 | N40: 207.5 | O40: 222.32 | P40: $ 132.14 | Q40: $ 132.14 | S40: 199 | T40: 159 | U40: 175.12 | V40: 171 | AB40: 68.75 | AC40: 0.57
A41: 5J.JGE05.001 | B41: PJE | D41: Lamp | E41: Replacement Lamp for MW826ST | F41: 8400460-3890-8 | G41: 90 Days or 500 hours | H41: 0.4 | J41: $ 84.29 | K41: $ 84.29 | M41: 119 | N41: 99.17 | O41: 106.25 | P41: $ 65.74 | Q41: $ 65.74 | S41: 99 | T41: 79 | U41: 87.12 | V41: 85 | AB41: 53.75 | AC41: 0.32 | AD41: =T41/S41 -> 0.7979798
A42: 5J.JGP05.001 | B42: PJE | D42: Lamp | E42: Replacement Lamp for MX825ST | F42: 8400460-3708-6 | G42: 90 Days or 500 hours | H42: 0.4 | J42: $ 84.29 | K42: $ 84.29 | M42: 119 | N42: 99.17 | O42: 106.25 | P42: $ 65.74 | Q42: $ 65.74 | S42: 99 | T42: 79 | U42: 87.12 | V42: 85 | AB42: 53.75 | AC42: 0.32 | AD42: =T42/S42 -> 0.7979798
A43: 5J.JC505.A01 | B43: PJE | D43: Lamp | E43: Replacement Lamp for MX854UST/ MW855UST (Replace 5J.JC505.001) | F43: 8400460-4552-4 | G43: 90 Days or 500 hours | H43: 1 | M43: 137 | N43: 137 | O43: 137 | S43: 99 | T43: 79 | U43: 87.12 | V43: 99 | W43: New MSRP & MAP effective 6/4/2026 | X43: 46177 | Y43: Price update! | AB43: 70 | AC43: 0.41 | AD43: =T43*AD41 -> 63.040404
A44: 5J.JAD05.A01 | B44: PJE | D44: Lamp | E44: Replacement Lamp for MW824ST | F44: 8400460-4998-0 | G44: 90 Days or 500 hours | H44: 0.8 | M44: 180 | N44: 180 | O44: 180 | S44: 130 | T44: 104 | U44: 114.4 | V44: 130 | W44: New MSRP & MAP effective 6/4/2026 | X44: 46177 | Y44: Price update! | AD44: =T44*AD42 -> 82.989899
A45: 5J.JCA05.A01 | B45: PJE | D45: Lamp | E45: Replacement Lamp for MX842UST/ MW843UST (Replace 5J.JCA05.001) | F45: 8400460-4888-4 | G45: 90 Days or 500 hours | H45: 1 | I45: 68 | M45: 180 | N45: 180 | O45: 180 | S45: 130 | T45: 104 | U45: 114.4 | V45: 130 | W45: New MSRP & MAP effective 6/4/2026 | X45: 46177 | Y45: Price update! | AD45: =T45*AD42 -> 82.989899
A46: 5J.JMW05.001 | B46: PJE | D46: Lamp | E46: Lamp for MW826STH | F46: 8400460-4405-3 | G46: 90 Days or 500 hours | H46: 0.4 | I46: 56 | M46: 137 | N46: 137 | O46: 137 | S46: 99 | T46: 79 | U46: 87.12 | V46: 99 | W46: New MSRP & MAP effective 6/4/2026 | X46: 46177 | Y46: Price update! | AD46: =T46*AD41 -> 63.040404
A47: 5J.JGR05.001 | B47: PJB | D47: Lamp | E47: Replacement Lamp of MX731 | F47: 8400460-3709-3 | G47: 90 Days or 500 hours | J47: $ 126.79 | K47: $ 126.79 | M47: 179 | N47: 149.17 | O47: 159.82 | P47: $ 98.94 | Q47: $ 98.94 | S47: 149 | T47: 119 | U47: 131.12 | V47: 128 | AB47: 77 | AC47: 0.35
A48: 5J.JGS05.001 | B48: PJB | D48: Lamp | E48: Replacement Lamp of MW732 | F48: 8400460-3892-2 | G48: 90 Days or 500 hours | J48: $ 126.79 | K48: $ 126.79 | M48: 179 | N48: 149.17 | O48: 159.82 | P48: $ 98.94 | Q48: $ 98.94 | S48: 149 | T48: 119 | U48: 131.12 | V48: 128 | AB48: 77 | AC48: 0.35
A49: 5J.JGT05.001 | B49: PJC | D49: Lamp | E49: Replacement Lamp of MH733, TH671ST | F49: 8400460-3891-5 | G49: 90 Days or 500 hours | I49: 84 | J49: $ 126.79 | K49: =84*1.38*1.5 -> 173.88 | M49: 259 | N49: =K49*1.2 -> 208.656 | O49: =N49*1.12 -> 233.69472 | P49: $ 98.94 | Q49: =134*1.5 -> 201 | S49: 309 | T49: =ROUND(Q49*1.2,0) -> 241 | U49: =T49*1.12 -> 269.92 | V49: 200 | W49: New MSRP & MAP effective 6/4/2026 | AB49: 77 | AC49: 0.35
A50: 5J.JHN05.A01 | B50: PJC | D50: Lamp | E50: Replacement Lamp for HT2550, TK800, TK800M | F50: 8400460-4886-0 | G50: 90 Days or 500 hours | I50: 80 | K50: =80*1.38*1.5 -> 165.6 | M50: 249 | N50: =K50*1.2 -> 198.72 | O50: =N50*1.12 -> 222.5664 | Q50: =127*1.5 -> 190.5 | S50: 299 | T50: =ROUND(Q50*1.2,0) -> 229 | U50: =T50*1.12 -> 256.48 | V50: 149 | W50: New MSRP & MAP effective 6/4/2026
A51: 5J.JKC05.A01 | B51: PJC | D51: Lamp | E51: Lamp for W2700, HT3550, HT3550i | F51: 8400460-4752-8 | G51: 90 Days or 500 hours | H51: 0.4 | I51: 72 | K51: =72*1.38*1.5 -> 149.04 | M51: 229 | N51: =K51*1.2 -> 178.848 | O51: =N51*1.12 -> 200.30976 | Q51: =113*1.5 -> 169.5 | S51: 259 | T51: =ROUND(Q51*1.2,0) -> 203 | U51: =T51*1.12 -> 227.36 | V51: 149 | W51: New MSRP & MAP effective 6/4/2026
A52: 5J.JKG05.001 | B52: PJB | D52: Lamp | E52: Lamp for MX707 | F52: 8400460-4075-8 | G52: 90 Days or 500 hours | H52: 0.4 | I52: 45.6 | K52: $ 140.96 | M52: 199 | N52: 165.83 | O52: 177.68 | Q52: $ 98.94 | S52: 149 | T52: 119 | U52: 131.12 | V52: 128
A53: 5J.JKS05.001 | B53: PJE | D53: Lamp | E53: Lamp for MW855UST+ | F53: 8400460-3466-5 | G53: 90 Days or 500 hours | H53: 0.4 | I53: 75 | J53: $ 127.49 | K53: $ 127.49 | M53: 179.99 | N53: 149.99 | O53: 160.71 | P53: $ 98.94 | Q53: $ 98.94 | S53: 149 | T53: 119 | U53: 131.12 | V53: 128
A54: 5J.JKV05.001 | B54: PJC | D54: Lamp | E54: Lamp for HT5550 | F54: 8400460-4140-3 | G54: 90 Days or 500 hours | H54: 0.4 | I54: 70 | J54: $ 133.88 | K54: $ 133.88 | M54: 189 | N54: 157.5 | O54: 168.75 | Q54: $ 98.94 | S54: 149 | T54: 119 | U54: 131.12 | V54: 128
A55: 5J.JKX05.001 | B55: PJC | D55: Lamp | E55: Lamp for MU613, TH585, TH585P, TH685, TH685i | F55: 8400460-4129-8 | G55: 90 Days or 500 hours | H55: 0.4 | I55: 96.3 | K55: $ 148.04 | M55: 209 | N55: 174.17 | O55: 186.61 | Q55: $ 105.58 | S55: 159 | T55: 127 | U55: 139.92 | V55: 137
A56: 5J.JL805.001 | B56: PJC | D56: Lamp | E56: Lamp for TH685,TH685P, TH685i | F56: 8400460-4511-1 | G56: 90 Days or 500 hours | H56: 0.4 | I56: 81 | K56: =81*1.38*1.5 -> 167.67 | M56: 259 | N56: =K56*1.2 -> 201.204 | O56: =N56*1.12 -> 225.34848 | Q56: =I56*1.5 -> 121.5 | S56: 299 | T56: =ROUND(Q56*1.2,0) -> 146 | U56: =T56*1.12 -> 163.52 | V56: 159 | W56: New MSRP & MAP effective 6/4/2026
A57: 5J.JL905.A01 | B57: PJC | D57: Lamp | E57: Lamp for TK850, TK810, TK850i | F57: 8400460-4323-0 | G57: 90 Days or 500 hours | H57: 0.4 | I57: 59 | K57: =59*1.38*1.5 -> 122.13 | M57: 189 | N57: =K57*1.2 -> 146.556 | O57: =N57*1.12 -> 164.14272 | Q57: =92*1.5 -> 138 | S57: 209 | T57: =Q57*1.2 -> 165.6 | U57: =T57*1.12 -> 185.472 | V57: 149 | W57: New MSRP & MAP effective 6/4/2026
A58: 5J.JLT05.001 | B58: PJE | D58: Lamp | E58: Lamp for EW600, EW800ST | F58: 8400460-4292-9 | G58: 90 Days or 500 hours | H58: 0.4 | I58: 59 | J58: $ 84.29 | K58: $ 84.29 | M58: 119 | N58: 99.17 | O58: 106.25 | P58: $ 65.74 | Q58: $ 65.74 | S58: 99 | T58: 79 | U58: 87.12 | V58: 85
A59: 5J.JLV05.001 | B59: PJB | D59: Lamp | E59: Lamp for EH600 | F59: 8400460-4291-2 | G59: 90 Days or 500 hours | H59: 0.4 | I59: 67.2 | J59: $ 133.88 | K59: $ 133.88 | M59: 189 | N59: 157.5 | O59: 168.75 | Q59: $ 98.94 | S59: 149 | T59: 119 | U59: 131.12 | V59: 128
A60: 5J.JN605.001 | B60: PJC | D60: Lamp | E60: Lamp for MS536, MX536, MW536 | F60: 8400460-4411-4 | G60: 90 Days or 500 hours | H60: 0.4 | I60: 65 | J60: $ 133.88 | K60: $ 133.88 | M60: 189 | N60: 157.5 | O60: 168.75 | Q60: $ 98.94 | S60: 149 | T60: 119 | U60: 131.12 | V60: 128
A61: 5J.JND05.001 | B61: PJC | D61: Lamp | E61: Lamp for MS560, MX560 | F61: 8400460-4430-5 | G61: 90 Days or 500 hours | H61: 0.4 | I61: 59 | K61: $ 133.88 | M61: 189 | N61: 157.5 | O61: 168.75 | Q61: $ 98.94 | S61: 149 | T61: 119 | U61: 131.12 | V61: 128
A62: 5J.JNF05.001 | B62: PJC | D62: Lamp | E62: Replacement Lamp of MW560 | F62: 8400460-4462-6 | G62: 90 Days or 500 hours | I62: 59 | K62: =ROUND(N62*(1-#REF!), 2) -> #REF! | M62: 189 | N62: 157.5 | O62: 168.75 | Q62: =ROUND(T62*(1-#REF!), 2) -> #REF! | S62: 149 | T62: 119 | U62: 131.12 | V62: =S62*0.86 -> 128.14
A63: 5J.JNG05.001 | B63: PJC | D63: Lamp | E63: Lamp for MH560 TH575, TH575i | F63: 8400460-4461-9 | G63: 90 Days or 500 hours | H63: 0.4 | I63: 59 | K63: $ 133.88 | M63: 189 | N63: 157.5 | O63: 168.75 | Q63: $ 98.94 | S63: 149 | T63: 119 | U63: 131.12 | V63: 128
A64: 5J.JNL05.001 | B64: PJC | D64: Lamp | E64: Lamp for TK700STi, TK700 | F64: 8400460-4564-7 | G64: 90 Days or 500 hours | H64: 0.4 | I64: 89 | K64: =89*1.38*1.5 -> 184.23 | M64: 279 | N64: =K64*1.2 -> 221.076 | O64: =N64*1.12 -> 247.60512 | Q64: =141*1.5 -> 211.5 | S64: 319 | T64: =ROUND(Q64*1.2,0) -> 254 | U64: =T64*1.12 -> 284.48 | V64: 200 | W64: New MSRP & MAP effective 6/4/2026
A65: 5J.JPT05.001 | B65: PJC | D65: Lamp | E65: Lamp for EH620, HT3560, HT3560i, TK860, TK860i | F65: 8400460-4676-7 | G65: 90 Days or 500 hours | H65: 0.4 | I65: 52 | K65: 133.88 | M65: 189 | N65: 157.5 | O65: 168.75 | Q65: $ 98.94 | S65: 149 | T65: 119 | U65: 131.12 | V65: 128
A66: 5J.JSE05.001 | B66: PSB | D66: Lamp | E66: Lamp for MW560C | F66: 8400460-4996-6 | G66: 90 Days or 500 hours | H66: 0.4 | I66: 59 | X66: 46119
A67: LENS OPTIONS
A68: 5A.JTR37.01E | B68: PJB | D68: LS3ST1 | E68: BenQ PJB LS3ST1 BLACK SHORT THROW | F68: 8400460-5274-4 | G68: One Year | I68: 544 | J68: 791.93893 | K68: 791.93893 | M68: 2238.4 | N68: 1679 | O68: 1846.68 | P68: 566.075 | Q68: 566.075 | S68: 1600 | T68: 1200 | U68: 1320 | V68: 1200
A69: 5A.JTR37.02E | B69: PJB | D69: LS3ST2 | E69: BenQ PJB LS3ST2 BLACK SHORT THROW | F69: 8400460-5275-1 | G69: One Year | I69: 586 | J69: 902.0752 | K69: 902.0752 | M69: 2238.4 | N69: 1679 | O69: 1846.68 | P69: 644.8 | Q69: 644.8 | S69: 1600 | T69: 1200 | U69: 1320 | V69: 1200
A70: 5A.JTR37.03E | B70: PJB | D70: LS3ST3 | E70: BenQ PJB LS3ST3 BLACK SEMI THROW | F70: 8400460-5273-7 | G70: One Year | I70: 309 | J70: 461.5301 | K70: 461.5301 | M70: 1399 | N70: 1007 | O70: 1108.008 | P70: 329.9 | Q70: 329.9 | S70: 1000 | T70: 720 | U70: 792 | V70: 720
A71: 5A.JTR37.04E | B71: PJB | D71: LS3SD1 | E71: BenQ PJB LS3SD1 BLACK LONG ZOOM | F71: 8400460-5272-0 | G71: One Year | J71: 791.93893 | K71: 791.93893 | M71: 1818.7 | N71: 1343 | O71: 1477.344 | P71: 566.075 | Q71: 566.075 | S71: 1300 | T71: 960 | U71: 1056 | V71: 960
A72: 5J.JPN37.004 | B72: PJB | D72: LS1SDA | E72: Optional Lens for LU9750 LU9800 - Standard 1.54-1.93 | F72: 8400460-4631-6 | G72: One Year | H72: 4 | K72: =ROUNDUP(N72*(1-15%),0) -> 1088 | M72: 1599 | N72: 1280 | O72: 1408 | Q72: 724 | S72: 1089 | T72: =ROUNDUP(S72*(1-20%),0) -> 872 | U72: 959 | V72: =ROUNDUP(S72*(1-14%),0) -> 937
A73: 5J.JPN37.003 | B73: PJB | D73: LS1ST1A | E73: Optional Lens for LU9750 LU9800 - Wide Zoom 1 TR 1.25-1.6 | F73: 8400460-4632-3 | G73: One Year | H73: 4 | K73: =ROUNDUP(N73*(1-15%),0) -> 1768 | M73: 2599 | N73: 2080 | O73: 2288 | Q73: 1063 | S73: 1599 | T73: =ROUNDUP(S73*(1-20%),0) -> 1280 | U73: 1408
A74: 5J.JPN37.002 | B74: PJB | D74: LS1ST2A | E74: Optional Lens for LU9750 LU9800 - Wide Zoom 2 TR 1.1-1.3 | F74: 8400460-4633-0 | G74: One Year | H74: 4 | K74: =ROUNDUP(N74*(1-15%),0) -> 1768 | M74: 2599 | N74: 2080 | O74: 2288 | Q74: 1063 | S74: 1599 | T74: =ROUNDUP(S74*(1-20%),0) -> 1280 | U74: =ROUNDUP(S74*(1-12%),0) -> 1408
A75: 5J.JAM37.031 | B75: PJB | D75: LS1LT2 | E75: Optional Lens for PX9710 PW9620 PU9730 LU9715 LU9915 LU9750 LU9800 - Long Zoom 1 TR 3.58-5.38 | F75: 8400460-2959-3 | G75: One Year | H75: 3.2 | J75: ######## | K75: ######## | L75: $ - | M75: ######## | N75: 1999.17 | O75: 2399 | P75: ######## | Q75: ######## | R75: $ - | S75: 2045 | T75: 1439 | U75: 1799 | V75: 2599 | W75: 1.33
A76: 5J.JAM37.041 | B76: PJB | D76: LS1LT3 | E76: Optional Lens for PX9710 PW9620 PU9730 LU9715 LU9915 LU9750 LU9800- Long Zoom 2 TR 5.31-8.26 | F76: 8400460-2958-6 | G76: One Year | H76: 2.2 | J76: ######## | K76: ######## | L76: $ - | M76: ######## | N76: 1999.17 | O76: 2399 | P76: ######## | Q76: ######## | R76: $ - | S76: 2045 | T76: 1439 | U76: 1799 | V76: 2599 | W76: 1.33
A77: 5J.JAM37.051 | B77: PJB | D77: LS1LT1 | E77: Optional Lens for PX9710 PW9620 PU9730 LU9715 LU9915 LU9750 LU9800 - Semi Long 1 TR 2.22-3.67 | F77: 8400460-2957-9 | G77: One Year | H77: 2.5 | J77: ######## | K77: ######## | L77: $ - | M77: ######## | N77: 1999.17 | O77: 2399 | P77: ######## | Q77: ######## | R77: $ - | S77: 2045 | T77: 1439 | U77: 1799 | V77: 2599 | W77: 1.33
A78: 5J.JPN37.005 | B78: PJB | D78: LS1LT0 | E78: Optional Lens for LU9750 LU9800 - Semi long TR 1.93-2.9 | F78: 8400460-4630-9 | G78: One Year | H78: 3 | K78: =ROUNDUP(N78*(1-15%),0) -> 1768 | M78: 2599 | N78: 2080 | O78: 2288 | Q78: 1063 | S78: 1599 | T78: =ROUNDUP(S78*(1-20%),0) -> 1280 | U78: 1408
A79: 5J.JPN37.001 | B79: PJB | D79: LS1ST3A | E79: Optional Lens for LU9750 LU9800 - Short throw TR 0.77-1.1 | F79: 8400460-4634-7 | G79: One Year | H79: 4 | K79: =ROUNDUP(N79*(1-15%),0) -> 2380 | M79: 3499 | N79: 2800 | O79: 3080 | Q79: 1660 | S79: 2499 | T79: =ROUNDUP(S79*(1-20%),0) -> 2000 | U79: 2200
A80: 5J.JCY37.001 | B80: PJB | D80: LS1ST4 | E80: Optioanl Lens for PX9710 PW9620 PU9730 LU9715 LU9915 LU9750 LU9800 - Ultra Short Throw (TR 0.38) | F80: 8400 460 3491 7 | G80: One Year | J80: ######## | K80: ######## | L80: $ - | M80: ######## | N80: 5832.5 | O80: ######## | P80: ######## | Q80: ######## | R80: $ - | S80: 6248 | T80: 4674 | U80: 5499 | V80: 7999 | W80: 1.27
A81: CEILING MOUNT
A82: 5J.JAM10.001 | B82: PJC | D82: CM00G3 | E82: Universal Ceiling Mount All BenQ model except GP series, 8 series, P series | F82: 8400460-3013-1 | G82: 90 days | H82: 11 | J82: $ 46.75 | K82: 46.75 | M82: 66 | N82: 55 | O82: 58.93 | P82: $ 36.73 | Q82: =33*1.5 -> 49.5 | S82: =T82*1.2+8 -> 79.28 | T82: =Q82*1.2 -> 59.4 | U82: =Q82*1.4 -> 69.3 | V82: 58.76
A83: 5J.J8E10.001 | C83: Limited supply | D83: WM06G3_D | E83: 0.6 Wall Mount for MW821ST | F83: 8400460-2897-8 | G83: 90 days | H83: 10.5 | J83: $ 91.38 | K83: $ 91.38 | M83: 129 | N83: 107.5 | O83: 115.18 | P83: $ 61.63 | Q83: $ 61.63 | S83: 99 | T83: 74 | U83: 87.12 | V83: 85
A84: CARRYING CASE
A85: 5J.BQA09.001 | D85: treVolo_Case | E85: Travel Case for BenQ treVolo Speaker | F85: 8400460-3305-7 | G85: 90 days | H85: 1 | J85: $ 34.71 | K85: $ 34.71 | M85: 49 | N85: 40.83 | O85: 43.75 | P85: $ 25.90 | Q85: $ 25.90 | S85: 39 | T85: 31 | U85: 34.32 | V85: 34
A86: 5J.J2N09.001 | C86: Limited supply | D86: Case | E86: Soft Carrying Case for SP840 | F86: 8400460-2031-6 | G86: 90 days | H86: 2 | J86: $ 37.40 | K86: $ 37.40 | M86: 52.8 | N86: 44 | O86: 47.14 | P86: $ 37.23 | Q86: $ 37.23 | S86: 69 | T86: 45 | U86: 60.72 | V86: 55
A87: 5J.J2V09.011 | C87: Limited supply | D87: BGFM01 | E87: Soft Carrying Case for MX750,MP780ST, W1100, W1200, MP780ST+, SH910, W1100, W1200, MW860USTi, MW870UST, MW767, MX766, MX822ST, MX768, MW769, TH670, TH671ST, MW705, HT1070, W1090, BH3020, MU686 | F87: 8400460-2393-5 | G87: 90 days | H87: 2 | J87: $ 29.75 | K87: $ 29.75 | M87: 42 | N87: 35 | O87: 37.5 | P87: $ 21.04 | Q87: $ 21.04 | S87: 39 | T87: 25 | U87: 34.32 | V87: 31
A88: 5J.J3C09.001 | C88: Limited supply | D88: Case | E88: Soft Carrying Case for GP2 | F88: 8400460-2474-1 | G88: 90 days | H88: 1 | J88: $ 29.75 | K88: $ 29.75 | M88: 42 | N88: 35 | O88: 37.5 | P88: $ 21.04 | Q88: $ 21.04 | S88: 39 | T88: 25 | U88: 34.32 | V88: 31
A89: 5J.J3T09.001 | B89: PJB/PJC/PJE | D89: BGQS01 | E89: Soft Carrying Case for MX710, MX711, MX660, MS614, MX615, MS612ST, MX613ST, MX660P, MX615+, MX701, MX501, MS500, MS500+, MP611, MP575, MP615P, MP625P,MP612,MP622, MP512/ST, MP623/MP624,MP523, MS510, MX511,MW512, MX716, W700, W710ST, W1060, EP5920, MW814ST, MX816ST, MW817ST, MS502, MX503, MX520, MX703, MX720, MW721, W1070, W1080ST, MW663, MS616ST, MX618ST, MX661, MX662, MH680, MX600, MS619ST, MX620ST, MW621ST, HT1075, HT1085ST, MS524, MX525,MW526, MX819ST, MW820ST, MX823ST, MW824ST, MW712, MW516, MS513, MX514, MX813ST, MW815ST, MS517, MX518, MW519, MS521, MX522, MW523, MX723, MX570, MS504A, MX631ST, MW632ST, MW571, MS524A, MX525A, MW526A, MH530, MS527E, MX528E, MW529E, MS517EH (BestBuy Canada only), BH3002 (B&H only), MW571H, MW612, MH733, MW732, MX731, MX707, MW707, TH585, TH671ST, TH685, TH685i, MH560, MS560, MW560, MX560, TH585P, TH685P, EH600, LW500, LW500ST, TH575 | F89: 8400460-2184-9 | G89: 90 days | H89: 2 | J89: $ 29.75 | K89: $ 29.75 | M89: 42 | N89: 35 | O89: 37.5 | P89: $ 21.04 | Q89: $ 21.04 | S89: 39 | T89: 25 | U89: 34.32 | V89: 31
A90: 5J.J4R09.001 | D90: BGFS01 | E90: HT1070A, MH530FHD, MH534, MS521H, MS524AE, MS531, MS531P, MW526AE, MW533, MW712, MX532, MX532P, TH534, TW533, W1050, W1050S, MS535A, MW535A, MH535A, MH535FHD, MS536 (Alt. 5J.J8F09.001), MW536, MX536 | F90: 8400460-2449-9 | G90: 90 days | H90: 2 | K90: $ 27.63 | M90: 39 | N90: 32.5 | Q90: $ 18.05 | S90: 29 | T90: 22 | V90: 23
A91: 5J.J5V09.001 | D91: BGQL01 | E91: Soft Carrying Case for HT2050, HT2060, HT3050, HT2150ST, HT2550, HT3550, HT3550i, HT3560, MH750, MH760, TK800, TK800M, TK850, TK810, TK850i, HT2050A, TK700STi, TK700, TK860i, TH690ST, LH600ST, LW600ST, W1700, W2700, EH700 | F91: 8400460-2490-1 | G91: 90 days | H91: 2 | J91: $ 41.79 | K91: $ 41.79 | M91: 59 | N91: 49.17 | O91: 52.68 | P91: $ 30.50 | Q91: $ 30.50 | S91: 49 | T91: 37 | U91: 43.12 | V91: 39
A92: 5J.JKL09.002 | B92: PJC | C92: Limited supply | D92: Case | E92: Carry bag for PRJ GV1 | F92: 8400460-4172-4 | G92: 90 days | H92: 1 | I92: 0.9 | K92: $ 9.21 | M92: 13 | N92: 10.83 | O92: 11.61 | Q92: $ 6.64 | S92: 10 | T92: 8 | U92: 8.8 | V92: 9
A93: 5J.JPA09.001 | B93: PJC | D93: Case | E93: Carry Bag for GV30 | F93: 8400460-4694-1 | G93: 90 days | H93: 1.35 | I93: 9.48 | K93: $15.76 | M93: 24 | N93: 19.2 | O93: 21.12 | Q93: $12.61 | S93: 19 | T93: 15 | U93: 16.72 | V93: 17.1
A94: 5J.JPC09.001 | B94: PJC | D94: Case | E94: Carry Bag for GS50 | F94: 8400460-4693-4 | G94: 90 days | H94: 1.25 | I94: 8.133 | K94: $15.76 | M94: 24 | N94: 19.2 | O94: 21.12 | Q94: $12.61 | S94: 19 | T94: 15 | U94: 16.72 | V94: 17.1
A95: 5J.JS809.002 | B95: PJC | D95: Case | E95: Carry Bag for GV31/GV50/GV32 | F95: 8400460-5101-3 | G95: 90 days | H95: 1 | I95: 8.5 | Q95: $12.61 | S95: 59 | T95: 38 | U95: 51.92 | V95: 17.1
A96: 5J.JSR09.001 | B96: PJC | D96: Case | E96: Carry Bag for GV31/GV50/GV32 | F96: 8400460-5040-5 | G96: 90 days | H96: 1 | I96: 8.5 | Q96: $12.61 | S96: 59 | T96: 38 | U96: 51.92 | V96: 17.1
A97: 5J.JT109.001 | B97: PJC | D97: Case | E97: Carry Bag for GP100A/GP520/TK705i/TK705STi | F97: 8400460-5209-6 | G97: 90 days | H97: 1 | I97: 18 | K97: =Q97*1.37 -> 36.99 | M97: 129 | N97: =T97*1.3 -> 88.4 | O97: =U97*1.3 -> 122.85 | Q97: =I97*1.5 -> 27 | S97: 99 | T97: 68 | U97: =Q97*3.5 -> 94.5
A98: 5A.R0J10.00E | B98: PJC | D98: Stand | E98: Table Stand for GP520/TK705i/TK705STi | F98: 8400460-5257-7 | G98: 90 days | I98: 38.5 | K98: =Q98*1.36 -> 78.54 | M98: 119 | N98: 94.2 | O98: 105.5 | Q98: =I98*1.5 -> 57.75 | S98: 99 | T98: 69 | U98: 77.6
A99: REMOTE CONTROL
A100: 5J.04J06.001 | B100: PJC | C100: Limited supply | D100: RCV023 | E100: BenQ Projector Remote for HT6050 | F100: 8400460-3396-5 | G100: 90 days | H100: 1 | J100: $ 55.96 | K100: $ 55.96 | M100: 79 | N100: 65.83 | O100: 70.54 | P100: $ 31.83 | Q100: $ 31.83 | S100: 59 | T100: 38 | U100: 51.92 | V100: 47
A101: 5J.J1U06.001 | C101: Limited supply | D101: Remote | E101: BenQ Projector Remote for W600, W1000, W600+, W1000+ | F101: 8400460-2011-8 | G101: 90 days | H101: 1 | J101: $ 41.65 | K101: $ 41.65 | M101: 58.8 | N101: 49 | O101: 52.5 | P101: $ 37.23 | Q101: $ 37.23 | S101: 69 | T101: 45 | U101: 60.72 | V101: 55
A102: 5J.J2S06.001 | C102: Limited supply | D102: Remote | E102: BenQ Projector Remote for MP615P, MP625P | F102: 8400460-2008-8 | G102: 90 days | H102: 1 | J102: $ 41.65 | K102: $ 41.65 | M102: 58.8 | N102: 49 | O102: 52.5 | P102: $ 31.83 | Q102: $ 31.83 | S102: 59 | T102: 38 | U102: 51.92 | V102: 47
A103: 5J.J3906.001 | C103: Limited supply | D103: Remote | E103: BenQ Projector Remote for W7000/W7500 | F103: 8400460-2510-6 | G103: 90 days | H103: 1 | J103: $ 41.65 | K103: $ 41.65 | M103: 58.8 | N103: 49 | O103: 52.5 | P103: $ 37.23 | Q103: $ 37.23 | S103: 69 | T103: 45 | U103: 60.72 | V103: 55
A104: 5J.J3H06.001 | C104: Limited supply | D104: RCP012 | E104: BenQ Projector Remote for GP20 | F104: 8400460-2882-4 | G104: 90 days | J104: $ 29.75 | K104: $ 29.75 | M104: 42 | N104: 35 | O104: 37.5 | P104: $ 21.04 | Q104: $ 21.04 | S104: 39 | T104: 25 | U104: 34.32 | V104: 31
A105: 5J.J3W06.001 | B105: PJB | C105: Limited supply | D105: RCE016 | E105: BenQ Projector Remote RCE016 for LH710, LH930, LU710, LU930 | F105: 8400460-4158-8 | G105: 90 days | H105: 1 | I105: 3.211 | K105: $ 41.44 | M105: 58.5 | N105: 48.75 | O105: 52.23 | Q105: $ 26.44 | S105: 49 | T105: 32 | U105: 43.12 | V105: 39
A106: 5J.J4G06.001 | C106: Limited supply | D106: Remote | E106: BenQ Projector Remote for W1100, W1200 | F106: 8400460-2265-5 | G106: 90 days | H106: 1 | J106: $ 41.65 | K106: $ 41.65 | M106: 58.8 | N106: 49 | O106: 52.5 | P106: $ 37.23 | Q106: $ 37.23 | S106: 69 | T106: 45 | U106: 60.72 | V106: 55
A107: 5J.J5E06.001 | C107: Limited supply | D107: Remote | E107: BenQ Projector Remote for MS513, MX514, MW516 | F107: 8400460-2396-6 | G107: 90 days | H107: 1 | J107: $ 29.75 | K107: $ 29.75 | M107: 42 | N107: 35 | O107: 37.5 | P107: $ 21.04 | Q107: $ 21.04 | S107: 39 | T107: 25 | U107: 34.32 | V107: 31
A108: 5J.J5X06.001 | C108: Limited supply | D108: Remote | E108: BenQ Projector Remote for MX716 | F108: 8400460-2445-1 | G108: 90 days | H108: 1 | J108: $ 29.75 | K108: $ 29.75 | M108: 42 | N108: 35 | O108: 37.5 | P108: $ 26.44 | Q108: $ 26.44 | S108: 49 | T108: 32 | U108: 43.12 | V108: 39
A109: 5J.J6H06.001 | C109: Limited supply | D109: Remote | E109: BenQ Projector Remote for MS502, MX503 | F109: 8400460-2524-3 | G109: 90 days | H109: 1 | J109: $ 29.75 | K109: $ 29.75 | M109: 42 | N109: 35 | O109: 37.5 | P109: $ 21.04 | Q109: $ 21.04 | S109: 39 | T109: 25 | U109: 34.32 | V109: 31
A110: 5J.J6R06.001 | C110: Limited supply | D110: RCE011 | E110: BenQ Projector Remote for MW721, MW767, MX720, MX766, MX822ST, MW820ST, MX819ST, MW870UST, MP780ST, MP780ST+, MX750, MW860USTi | F110: 8400460-2726-1 | G110: 90 days | H110: 1 | J110: $ 41.65 | K110: $ 41.65 | M110: 58.8 | N110: 49 | O110: 52.5 | P110: $ 26.44 | Q110: $ 26.44 | S110: 49 | T110: 32 | U110: 43.12 | V110: 39
A111: 5J.J8A06.001 | B111: PJB | C111: Limited supply | D111: RCA021 | E111: BenQ Projector Remote for SH940, SH963, TH963, SX912, MH740, SW916, SH915, MW769, MX768, SH960 | F111: 8400460-2724-7 | G111: 90 days | H111: 1 | J111: $ 41.65 | K111: $ 41.65 | M111: 58.8 | N111: 49 | O111: 52.5 | P111: $ 31.83 | Q111: $ 31.83 | S111: 59 | T111: 38 | U111: 51.92 | V111: 47
A112: 5J.J9M06.011 | B112: PJC | C112: Limited supply | D112: RCV012 | E112: BenQ Projector Remote for HT1075, HT1085ST, HT2050, HT2050A, HT3050, HT4050, TH670, HT2150ST, HT1070, W1090 (BestBuy Canada only), BH3020 (B&H photo only) | F112: 8400460-4493-0 | G112: 90 days | H112: 1 | I112: 5.789 | J112: $ 29.75 | K112: $ 29.75 | M112: 42 | N112: 35 | O112: 37.5 | P112: $ 26.44 | Q112: $ 26.44 | S112: 49 | T112: 32 | U112: 43.12 | V112: 39
...

Sheet PDP-ACC
A1: 1 | B1: 2 | C1: 3 | D1: 4 | E1: 5 | F1: 6 | G1: 7 | H1: 8 | I1: 9 | J1: 10 | K1: 11 | L1: 12 | M1: 13 | N1: 14 | O1: 15 | P1: 16 | Q1: 17
A2: Effective | B2: 46266 | L2: BQca_Acc | M2: BQca_Acc_Amazon | O2: BQus_ACC | P2: BQus_ACC-AMZ
A3: P/N | B3: Status | C3: Series | D3: Description | E3: UPC Code | F3: Warranty | G3: Weight (lbs) | H3: Cost | I3: Jan'23 NS ITP (CAD) | J3: Feb'23 NS ITP (CAD) | K3: Delta | L3: ASP CAD | M3: Amazon ASP CAD | N3: MSRP CAD | O3: BQAA ASP US$ | P3: Amazon ASP | Q3: MSRP US$ | W3: Cost | X3: NGM
B4: PDP Accessory--Others
A5: 5A.FA139.NA2 | C5: NC01A | D5: NFC cards for RP Series and RM04 series with a vertical punch to accommodate a badge clip (New BenQ education design) | E5: 8400460-5023-8 | F5: One Year | J5: =L5*(1-15%) -> 5.95 | L5: 7 | M5: NA | N5: 10 | O5: 6 | P5: 7 | Q5: 8
A6: 5A.F8Y28.DE1 | C6: WD02AT | D6: Wireless dongle for RP03/RM03/RP04/RM04 supports Wi-Fi 6 and Bluetooth | E6: 8400460-4686-6 | F6: 90 days | H6: 25 | L6: 70 | M6: 95 | N6: 98 | O6: 55 | P6: 68 | Q6: 77
A7: 5A.FAX06.002 | C7: TRY01 | D7: Remote control for RM02K/RP02/RM03/CP01K/RP01K/RE01/RP03/RM04/RP04/RE04 | E7: 8400460-4561-6 | F7: One Year | H7: $13 | J7: 25 | L7: 49 | M7: 62 | N7: 63 | O7: 39 | P7: 44 | Q7: 50
A8: 5A.F7W28.DP1 | C8: TDY31 | D8: Wireless dongle with BenQ logo for RM02 / RM03 / RP02 / RE01 | E8: 8400460-4611-8 | F8: 90 days | H8: 23.8 | I8: $ 30.00 | J8: $ 30.00 | L8: 55 | M8: 66 | N8: 69 | O8: 43 | P8: 47 | Q8: 54
A9: 5A.F7V28.BP2 | C9: TWY31 | D9: InstaShare Button for RM03/RP03/RP04/RM04/RE04, need to work with TDY31/WD02AT dongle | E9: 8400460-4599-9 | F9: One Year | H9: 115 | L9: 279 | M9: 405 | N9: 419 | O9: 299 | P9: 289 | Q9: 329
A10: 5J.F3L14.001 | B10: Don't show on price list Bid only | C10: Asus Hangout Meet Speakermic | L10: 280 | M10: 339 | N10: 350 | O10: 220 | P10: 242 | Q10: 275
A11: PDP Accessory--Stylus Pen
A12: 5J.F7C14.001 | C12: TPY24 | D12: Stylus sets for RE01/RM02K/RM03/RM04 (2pc/box), dual tips (thin and thick) with additional 6 spare thin tips | E12: 8400460-4651-4 | F12: One Year | H12: $16 | J12: 32.5 | L12: 42 | M12: 55 | N12: 56 | O12: 33 | P12: 39 | Q12: 44
A13: 5J.F7C14.003 | C13: TPY24 | D13: Stylus sets for RE01/RM02K/RM03/RM04 (2pc/box), dual tips (thin and thick) with additional 6 spare thin tips | E13: 8400460-4651-4 | F13: One Year | H13: $16 | J13: 32.5 | L13: 42 | M13: 55 | N13: 56 | O13: 33 | P13: 39 | Q13: 44
A14: 5J.F7C14.004 | C14: TPY24 | D14: Stylus sets for RE01/RM02K/RM03/RM04 (2pc/box), dual tips (thin and thick) with additional 6 spare thin tips | E14: 8400460-4651-4 | F14: One Year | H14: $16 | J14: 32.5 | L14: 42 | M14: 55 | N14: 56 | O14: 33 | P14: 39 | Q14: 44
A15: 5J.F5M14.001 | C15: TPY11 | D15: Stylus sets for CP series | E15: 8400460-4307-0 | F15: One Year | H15: $130 | J15: =L15*(1-15%) -> 237.15 | L15: 279 | M15: 337 | N15: 349 | O15: 219 | P15: 241 | Q15: 274
A16: 5A.F9L26.011 | C16: PT01GN | D16: Stylus sets for RP01K, RP02, RP03, RP04, dual tips (thin and thick) with additional 6 spare thin tips and NFC tag. | E16: 8400460-4794-8 | F16: One Year | H16: $20 | J16: 39 | L16: 84 | M16: 102 | N16: 105 | O16: 66 | P16: 73 | Q16: 83
A17: 5A.F9L26.002 | C17: PT01GN | D17: Stylus sets for RP01K, RP02, RP03, RP04, dual tips (thin and thick) with additional 6 spare thin tips and NFC tag. | E17: 8400460-4794-8 | F17: One Year | L17: 84 | M17: 102 | N17: 105 | O17: 66 | P17: 73 | Q17: 83
A18: PDP Accessory--OPS
A19: 5A.F9630.7J2 | C19: TEY41 | D19: OPS Slot-in PC For RP01 / RP02 /RP03 /RP04 / RM04 / RM02K / RM03 / RE01 /RE03 / RE04FV2 (Intel 12th gen processor, Core-i7, 16GB RAM, 256GB SSD, Windows Trial License) | E19: 8400460-4917-1 | F19: One Year | H19: 600 | J19: =ROUNDUP(L19*(1-15%),0) -> 1428 | L19: 1679 | M19: 2031 | N19: 2099 | O19: 1319 | P19: 1451 | Q19: 1649
A20: 5A.F9630.4J2 | C20: TEY41-i516GB | D20: OPS Slot-in PC For RP01 / RP02 /RP03 /RP04. RM04 / RM02K / RM03 / RE01 /RE03 (Intel 12th gen processor, Core-i5, 16GB RAM, 256GB SSD, Windows Trial License) | E20: 8400460-4950-8 | F20: One Year | L20: 1190 | M20: 1355 | N20: 1400 | O20: 968 | P20: 1059 | Q20: 1100
A21: 5A.F9630.4F2 | C21: TEY41-i58GB | D21: OPS Slot-in PC For RP01 / RP02 /RP03 /RP04 / RM04 / RM02K / RM03 / RE01 /RE03 / RE04FV2 (Intel 12th gen processor, Core-i5, 8GB RAM, 256GB SSD, Windows Trial License) | E21: 8400460-4910-2 | F21: One Year | L21: =O21*1.4 -> 1057 | M21: =P21*1.4 -> 1216.1739 | N21: =Q21*1.4 -> 1398.6 | O21: 755 | P21: =Q21/1.15 -> 868.69565 | Q21: 999
A22: 5A.F9M30.RA1 | C22: TEY1A | D22: BenQ Android OPS TEY1A BLACK ANDROID 13, 8G/128G, GOOGLE CERTIFICATION OPS for RP03 and RM03 | E22: 8400460-4972-0 | F22: One Year | L22: 594 | M22: 699 | N22: 794 | O22: 424 | P22: 499 | Q22: 567
A23: PDP Accessory--Trolley
A24: 5A.FAE10.001 | C24: IT1002 | D24: Trolley for all RP/RM Series, support 55"-98" displays | E24: 8400460-5073-3 | F24: One Year | H24: 130 | J24: 319 | L24: 699 | M24: 822 | N24: 934 | O24: 499 | P24: 587 | Q24: 667
A25: 5J.F5M10.001 | C25: TTY21 | D25: Rotating trolley for ST4302S, ST5502S, IL4301, IL5501, SL4302K, SL5502K, SL6502K | E25: 8400460-4416-9 | F25: One Year | H25: 310 | J25: =ROUNDUP(L25*(1-15%),0) -> 761 | L25: 895 | M25: 1082 | N25: 1119 | O25: 703 | P25: 773 | Q25: 879
A26: 5J.BQA10.001 | B26: Don't show on price list / USA+CA Bid only | C26: BBWM-1 480A12+481A70 | D26: BalanceBox® 400-70 Spring Loaded Height Adjustable Wall Mount (Mount + VESA) Suited for 65-75in IFP | E26: BalanceBox's own | F26: One Year | L26: 1080 | M26: 1311 | N26: 1489 | O26: 745 | P26: 904 | Q26: 1027
A27: 5J.BQA10.002 | B27: Don't show on price list / USA+CA Bid only | C27: BBWM-2 480A14+481A70 | D27: BalanceBox® 400-90 Spring Loaded Height Adjustable Wall Mount (Mount + VESA) Suited for 86in IFP | E27: BalanceBox's own | F27: One Year | L27: 1080 | M27: 1311 | N27: 1489 | O27: 745 | P27: 904 | Q27: 1027
A28: 5J.BQA10.005 | B28: Don't show on price list / USA+CA Bid only | C28: BUMC-1 481A71001+481A70 | D28: BalanceBox® Mobile Cart for BenQ Boards from 55” to 86”(Mobile Cart + VESA) / UL Certified / 2 different heights | E28: BalanceBox's own | F28: One Year | G28: 96.1lbs | H28: 355 | L28: 689 | M28: 1032 | N28: 1173 | O28: 475 | P28: 712 | Q28: 809
A29: 5J.BQA10.003 | B29: Don't show on price list / USA+CA Bid only | C29: BBMC-1 480A12+481A70+481A71001 | D29: BalanceBox® 400-70 Spring Loaded Height Adjustable Mobile Cart for (Mount + VESA + Mobile Cart) Suited for 65-75in IFP | E29: BalanceBox's own | F29: One Year | G29: 144.6lbs | H29: $697 | L29: 1662 | M29: 2203 | N29: 2503 | O29: 1146 | P29: 1519 | Q29: 1726
A30: 5J.BQA10.004 | B30: Don't show on price list / USA+CA Bid only | C30: BBMC-2 480A14+481A70+481A71001 | D30: BalanceBox® 400-90 Spring Loaded Height Adjustable Mobile Cart (Mount + VESA + Mobile Cart) Suited for 86in IFP | E30: BalanceBox's own | F30: One Year | G30: 144.6lbs | H30: $697 | L30: 1662 | M30: 2203 | N30: 2503 | O30: 1146 | P30: 1519 | Q30: 1726
A31: 5J.BQA10.008 | B31: Don't show on price list / USA+CA Bid only | C31: BWMF-1 (480A12+481A70+481A42001) | D31: BalanceBox® 400-70 Spring Loaded Height Adjustable Wall Mount w/Floor Support Mount + VESA + Floor Support) Suited for 65-75in IFP | E31: BalanceBox's own | F31: One Year | H31: 691 | L31: 1460 | M31: 1753 | N31: 1992 | O31: 1007 | P31: 1209 | Q31: 1374
A32: 5J.BQA10.009 | B32: Don't show on price list / USA+CA Bid only | C32: BWMF-2 (480A14+481A70+481A42001) | D32: BalanceBox® 400-90 Spring Loaded Height Adjustable Wall Mount w/Floor Support (Mount + VESA + Floor Support) Suited for 86in IFP | E32: BalanceBox's own | F32: One Year | H32: 691 | L32: 1460 | M32: 1753 | N32: 1992 | O32: 1007 | P32: 1209 | Q32: 1374
A33: 5J.BQA10.010 | B33: Don't show on price list / USA+CA Bid only | C33: BEBC-3 (487A03) | D33: e-Box® Motorized Height Adjustable Tilt Table Stand Suited for RE6501/RP6502/RP6503/RE7501 | E33: BalanceBox's own | F33: One Year | H33: 1609 | L33: 3252 | M33: 4137 | N33: 4701 | O33: 2243 | P33: 2853 | Q33: 3242
A34: 5J.BQA10.011 | B34: Don't show on price list / USA+CA Bid only | C34: BEBC-4 (487A03+481A117) | D34: e-Box® Motorized Height Adjustable Tilt Table Stand (Mobile Cart + VESA Adapter) Suited for RP7502/RP7503/RM7503, NOT FOR 86" and up sizes | E34: BalanceBox's own | F34: One Year | H34: 1648 | L34: 2517 | M34: 4633 | N34: 5264 | O34: 1736 | P34: 3195 | Q34: 3631
A35: 5J.BQA10.012 | B35: Don't show on price list / USA+CA Bid only | C35: BEBC-5 (487A11011+481A70) | D35: e-Box® ii Motorized Height Adjustable Mobile Cart (Mobile Cart + VESA Adapter) for 55"-98" IFP | E35: BalanceBox's own | F35: One Year | H35: 854 | L35: 1924 | M35: 2590 | N35: 2944 | O35: 1327 | P35: 1786 | Q35: 2030
A36: 5J.BQA10.013 | B36: Don't show on price list / USA+CA Bid only | C36: BBWS-1 (484A08+481A82+988B83+988B83) | D36: BalanceBox® 650 Height AdjustableWall Mount with Winx-4b Solution Suited for 75in IFP | E36: BalanceBox's own | F36: One Year | H36: 1672 | L36: 3452 | M36: 4340 | N36: 4931 | O36: 2381 | P36: 2993 | Q36: 3401
A37: 5J.BQA10.015 | B37: Don't show on price list / USA+CA Bid only | C37: BWMO-1 481A61001+480A12+481A70 | D37: BalanceBox® Over the whiteboard solution with BBWM-1 Suited for 65-75in IFP | E37: BalanceBox's own | F37: One Year | H37: 631 | L37: 1475 | M37: 1768 | N37: 2008 | O37: 1017 | P37: 1219 | Q37: 1385
A38: 5J.BQA10.016 | B38: Don't show on price list / USA+CA Bid only | C38: BWMO-2 481A61001+480A14+481A70 | D38: BalanceBox® Over the whiteboard solution with BBWM-2 Suited for 86in IFP | E38: BalanceBox's own | F38: One Year | H38: 631 | L38: 1475 | M38: 1768 | N38: 2008 | O38: 1017 | P38: 1219 | Q38: 1385
A39: 5J.BQA10.017 | C39: IT1101-B | D39: BalanceBox® Mobile stand base compatible with 65 -86 in panels | E39: BalanceBox's own | F39: One Year | H39: 631 | L39: 579 | M39: 637 | N39: 724 | O39: 399 | P39: 439 | Q39: 499
A40: 5A.FAR10.NE1 | C40: MT02E | D40: BenQ motorized cart for 65"-86" panels (VESA 800 x 600 mm) | E40: 8400460-5118-1 | F40: One Year | L40: 1119 | M40: 1490 | N40: 1539 | O40: 1099 | P40: 1232 | Q40: 1400
A41: 5J.FAR10.001 | C41: MT02E Tray | D41: Laptop tray for MT02E | F41: One Year | L41: 69 | M41: 94 | N41: 97 | O41: 54 | P41: 67 | Q41: 76
A42: PDP Accessory--Camera
A43: 5A.F7T14.004 | C43: DVY31 | D43: 1080p camera for video conference (Zoom Certified) | E43: 8400460-4589-0 | F43: One Year | H43: 45 | J43: 90 | L43: 139 | M43: 148 | N43: 153 | O43: 109 | P43: 106 | Q43: 120
A44: 5A.F7S14.005 | C44: DVY32 | D44: 4K camera for video conference (Zoom Certified) | E44: 8400460-4590-6 | F44: One Year | J44: =ROUNDUP(L44*(1-15%),0) -> 476 | L44: 559 | M44: 676 | N44: 699 | O44: 439 | P44: 483 | Q44: 549
A45: 5A.F9V14.NE1 | C45: DV01K | D45: 4K camera featured with active-noise cancellation and auto framing. Compatible with RP04 and RM04. NOT compatible with other boards. | E45: 8400460-4995-9 | F45: One Year | L45: 599 | M45: 699 | N45: 749 | O45: 559 | P45: 571 | Q45: 649
A46: 5A.F9V14.NE2 | C46: DV01K | D46: 4K camera featured with active-noise cancellation and auto framing. Compatible with RP04 and RM04. NOT compatible with other boards. | E46: 8400460-4995-9 | F46: One Year | L46: 599 | M46: 699 | N46: 749 | O46: 559 | P46: 571 | Q46: 649
A47: 5J.F7310.002 | B47: 36 units left | C47: Camera L-Mount | D47: Camera L-Type mount (TV mount), compatible with DVY31, DVY32 | E47: 8400460-4507-4 | F47: One Year | L47: 42 | M47: 62 | N47: 63 | O47: 33 | P47: 44 | Q47: 50
A48: 6E.BQA01.001 | B48: No need to release on PL | C48: Stand for ideaCam | D48: ASSEMBLY STAND FOR IDEACAM - EDUCATION IFE ideaCam S1 plus | E48: N/A | F48: NA | L48: NA | M48: NA | N48: NA | O48: NA | P48: NA | Q48: NA
A49: 5J.F9V10.003 | B49: No need to release on PL | C49: Mounting braket for DV01K | D49: Mounting braket for DV01K | E49: N/A | F49: NA | L49: NA | M49: NA | N49: NA | O49: NA | P49: NA | Q49: NA

Sheet BQus_PRJ ACC
A1: BenQ America Corp.
A2: ACCESSORY | D2: The lens have the same warranty with projector if purchase along with Projector
A3: Effective: | B3: ='PRJ-ACC'!B2 -> 46266
A4: P/N | B4: STATUS | C4: SERIES | D4: PRODUCT DESCRIPTION | E4: UPC CODE | F4: WARRANTY | G4: WEIGHTS (lb) | H4: MAP
A5: 5J.J0405.001 | B5: =IFERROR(VLOOKUP(A5,'PRJ-ACC'!A:AD,3,FALSE),"") -> Limited supply | C5: =IFERROR(VLOOKUP(A5,'PRJ-ACC'!A:AD,4,FALSE),"") -> Lamp | D5: =IFERROR(VLOOKUP(A5,'PRJ-ACC'!A:AD,5,FALSE),"") -> Replacement Lamp for MP776 MP777 MP776ST | E5: =IFERROR(VLOOKUP(A5,'PRJ-ACC'!A:AD,6,FALSE),"") -> 8400460-1685-2 | F5: =IFERROR(VLOOKUP(A5,'PRJ-ACC'!A:AD,7,FALSE),"") -> 90 Days or 500 hours | G5: =IFERROR(VLOOKUP(A5,'PRJ-ACC'!A:AD,8,FALSE),"") -> 0.7 | H5: =IFERROR(VLOOKUP(A5,'PRJ-ACC'!A:AD,19,FALSE),"") -> 299
A6: 5J.J0T05.001 | B6: =IFERROR(VLOOKUP(A6,'PRJ-ACC'!A:AD,3,FALSE),"") -> Limited supply | C6: =IFERROR(VLOOKUP(A6,'PRJ-ACC'!A:AD,4,FALSE),"") -> Lamp | D6: =IFERROR(VLOOKUP(A6,'PRJ-ACC'!A:AD,5,FALSE),"") -> Replacement Lamp for MP772ST/MP782ST | E6: =IFERROR(VLOOKUP(A6,'PRJ-ACC'!A:AD,6,FALSE),"") -> 8400460-1686-9 | F6: =IFERROR(VLOOKUP(A6,'PRJ-ACC'!A:AD,7,FALSE),"") -> 90 Days or 500 hours | G6: =IFERROR(VLOOKUP(A6,'PRJ-ACC'!A:AD,8,FALSE),"") -> 0.7 | H6: =IFERROR(VLOOKUP(A6,'PRJ-ACC'!A:AD,19,FALSE),"") -> 149
A7: 5J.J1V05.001 | B7: =IFERROR(VLOOKUP(A7,'PRJ-ACC'!A:AD,3,FALSE),"") -> Limited supply | C7: =IFERROR(VLOOKUP(A7,'PRJ-ACC'!A:AD,4,FALSE),"") -> Lamp | D7: =IFERROR(VLOOKUP(A7,'PRJ-ACC'!A:AD,5,FALSE),"") -> Replacement Lamp for MP575/MP525p/MP525ST | E7: =IFERROR(VLOOKUP(A7,'PRJ-ACC'!A:AD,6,FALSE),"") -> 8400460-1705-7 | F7: =IFERROR(VLOOKUP(A7,'PRJ-ACC'!A:AD,7,FALSE),"") -> 90 Days or 500 hours | G7: =IFERROR(VLOOKUP(A7,'PRJ-ACC'!A:AD,8,FALSE),"") -> 0.3 | H7: =IFERROR(VLOOKUP(A7,'PRJ-ACC'!A:AD,19,FALSE),"") -> 199
A8: 5J.J1X05.001 | B8: =IFERROR(VLOOKUP(A8,'PRJ-ACC'!A:AD,3,FALSE),"") -> Limited supply | C8: =IFERROR(VLOOKUP(A8,'PRJ-ACC'!A:AD,4,FALSE),"") -> Lamp | D8: =IFERROR(VLOOKUP(A8,'PRJ-ACC'!A:AD,5,FALSE),"") -> Replacement Lamp for MP626 | E8: =IFERROR(VLOOKUP(A8,'PRJ-ACC'!A:AD,6,FALSE),"") -> 8400460-1838-2 | F8: =IFERROR(VLOOKUP(A8,'PRJ-ACC'!A:AD,7,FALSE),"") -> 90 Days or 500 hours | G8: =IFERROR(VLOOKUP(A8,'PRJ-ACC'!A:AD,8,FALSE),"") -> 0.8 | H8: =IFERROR(VLOOKUP(A8,'PRJ-ACC'!A:AD,19,FALSE),"") -> 199
A9: 5J.J2D05.011 | B9: =IFERROR(VLOOKUP(A9,'PRJ-ACC'!A:AD,3,FALSE),"") -> Limited supply | C9: =IFERROR(VLOOKUP(A9,'PRJ-ACC'!A:AD,4,FALSE),"") -> Lamp | D9: =IFERROR(VLOOKUP(A9,'PRJ-ACC'!A:AD,5,FALSE),"") -> Replacement Lamp "2" for SP920P | E9: =IFERROR(VLOOKUP(A9,'PRJ-ACC'!A:AD,6,FALSE),"") -> 8400460-1689-0 | F9: =IFERROR(VLOOKUP(A9,'PRJ-ACC'!A:AD,7,FALSE),"") -> 90 Days or 500 hours | G9: =IFERROR(VLOOKUP(A9,'PRJ-ACC'!A:AD,8,FALSE),"") -> 0.4 | H9: =IFERROR(VLOOKUP(A9,'PRJ-ACC'!A:AD,19,FALSE),"") -> 399
A10: 5J.J2S05.001 | B10: =IFERROR(VLOOKUP(A10,'PRJ-ACC'!A:AD,3,FALSE),"") -> Limited supply | C10: =IFERROR(VLOOKUP(A10,'PRJ-ACC'!A:AD,4,FALSE),"") -> Lamp | D10: =IFERROR(VLOOKUP(A10,'PRJ-ACC'!A:AD,5,FALSE),"") -> Replacement Lamp for MP615P/MP625P | E10: =IFERROR(VLOOKUP(A10,'PRJ-ACC'!A:AD,6,FALSE),"") -> 8400460-1982-2 | F10: =IFERROR(VLOOKUP(A10,'PRJ-ACC'!A:AD,7,FALSE),"") -> 90 Days or 500 hours | G10: =IFERROR(VLOOKUP(A10,'PRJ-ACC'!A:AD,8,FALSE),"") -> 0.8 | H10: =IFERROR(VLOOKUP(A10,'PRJ-ACC'!A:AD,19,FALSE),"") -> 199
A11: 5J.J3L05.001 | B11: =IFERROR(VLOOKUP(A11,'PRJ-ACC'!A:AD,3,FALSE),"") -> Limited supply | C11: =IFERROR(VLOOKUP(A11,'PRJ-ACC'!A:AD,4,FALSE),"") -> Lamp | D11: =IFERROR(VLOOKUP(A11,'PRJ-ACC'!A:AD,5,FALSE),"") -> Replacement Lamp for MX810 ST(MX713 ST) MW714 ST PRJ | E11: =IFERROR(VLOOKUP(A11,'PRJ-ACC'!A:AD,6,FALSE),"") -> 8400460-2103-0 | F11: =IFERROR(VLOOKUP(A11,'PRJ-ACC'!A:AD,7,FALSE),"") -> 90 Days or 500 hours | G11: =IFERROR(VLOOKUP(A11,'PRJ-ACC'!A:AD,8,FALSE),"") -> 0.7 | H11: =IFERROR(VLOOKUP(A11,'PRJ-ACC'!A:AD,19,FALSE),"") -> 149
A12: 5J.J4L05.021 | B12: =IFERROR(VLOOKUP(A12,'PRJ-ACC'!A:AD,3,FALSE),"") -> Limited supply | C12: =IFERROR(VLOOKUP(A12,'PRJ-ACC'!A:AD,4,FALSE),"") -> Lamp | D12: =IFERROR(VLOOKUP(A12,'PRJ-ACC'!A:AD,5,FALSE),"") -> Replacement Lamp "2" for SH960 | E12: =IFERROR(VLOOKUP(A12,'PRJ-ACC'!A:AD,6,FALSE),"") -> 8400460-2331-7 | F12: =IFERROR(VLOOKUP(A12,'PRJ-ACC'!A:AD,7,FALSE),"") -> 90 Days or 500 hours | G12: =IFERROR(VLOOKUP(A12,'PRJ-ACC'!A:AD,8,FALSE),"") -> 0.7 | H12: =IFERROR(VLOOKUP(A12,'PRJ-ACC'!A:AD,19,FALSE),"") -> 499
A13: 5J.J4N05.001 | B13: =IFERROR(VLOOKUP(A13,'PRJ-ACC'!A:AD,3,FALSE),"") -> Limited supply | C13: =IFERROR(VLOOKUP(A13,'PRJ-ACC'!A:AD,4,FALSE),"") -> Lamp | D13: =IFERROR(VLOOKUP(A13,'PRJ-ACC'!A:AD,5,FALSE),"") -> Replacement Lamp for MX763/ MX764 / MX717 | E13: =IFERROR(VLOOKUP(A13,'PRJ-ACC'!A:AD,6,FALSE),"") -> 8400460-2260-0 | F13: =IFERROR(VLOOKUP(A13,'PRJ-ACC'!A:AD,7,FALSE),"") -> 90 Days or 500 hours | G13: =IFERROR(VLOOKUP(A13,'PRJ-ACC'!A:AD,8,FALSE),"") -> 0.8 | H13: =IFERROR(VLOOKUP(A13,'PRJ-ACC'!A:AD,19,FALSE),"") -> 249
A14: 5J.J4R05.001 | B14: =IFERROR(VLOOKUP(A14,'PRJ-ACC'!A:AD,3,FALSE),"") -> Limited supply | C14: =IFERROR(VLOOKUP(A14,'PRJ-ACC'!A:AD,4,FALSE),"") -> Lamp | D14: =IFERROR(VLOOKUP(A14,'PRJ-ACC'!A:AD,5,FALSE),"") -> Replacement Lamp for MX813ST/MW712 | E14: =IFERROR(VLOOKUP(A14,'PRJ-ACC'!A:AD,6,FALSE),"") -> 8400460-2262-4 | F14: =IFERROR(VLOOKUP(A14,'PRJ-ACC'!A:AD,7,FALSE),"") -> 90 Days or 500 hours | G14: =IFERROR(VLOOKUP(A14,'PRJ-ACC'!A:AD,8,FALSE),"") -> 0.3 | H14: =IFERROR(VLOOKUP(A14,'PRJ-ACC'!A:AD,19,FALSE),"") -> 149
A15: 5J.J5R05.001 | B15: =IFERROR(VLOOKUP(A15,'PRJ-ACC'!A:AD,3,FALSE),"") -> Limited supply | C15: =IFERROR(VLOOKUP(A15,'PRJ-ACC'!A:AD,4,FALSE),"") -> Lamp | D15: =IFERROR(VLOOKUP(A15,'PRJ-ACC'!A:AD,5,FALSE),"") -> LAMP MODULE MX701 PRJ | E15: =IFERROR(VLOOKUP(A15,'PRJ-ACC'!A:AD,6,FALSE),"") -> 8400460-2391-1 | F15: =IFERROR(VLOOKUP(A15,'PRJ-ACC'!A:AD,7,FALSE),"") -> 90 Days or 500 hours | G15: =IFERROR(VLOOKUP(A15,'PRJ-ACC'!A:AD,8,FALSE),"") -> 0.8 | H15: =IFERROR(VLOOKUP(A15,'PRJ-ACC'!A:AD,19,FALSE),"") -> 199
A16: 5J.J5X05.001 | B16: =IFERROR(VLOOKUP(A16,'PRJ-ACC'!A:AD,3,FALSE),"") -> Limited supply | C16: =IFERROR(VLOOKUP(A16,'PRJ-ACC'!A:AD,4,FALSE),"") -> Lamp | D16: =IFERROR(VLOOKUP(A16,'PRJ-ACC'!A:AD,5,FALSE),"") -> LAMP MODULE MX716 PRJ | E16: =IFERROR(VLOOKUP(A16,'PRJ-ACC'!A:AD,6,FALSE),"") -> 8400460-2390-4 | F16: =IFERROR(VLOOKUP(A16,'PRJ-ACC'!A:AD,7,FALSE),"") -> 90 Days or 500 hours | G16: =IFERROR(VLOOKUP(A16,'PRJ-ACC'!A:AD,8,FALSE),"") -> 0.7 | H16: =IFERROR(VLOOKUP(A16,'PRJ-ACC'!A:AD,19,FALSE),"") -> 299
... A66: 5J.JSE05.001 | B66: =IFERROR(VLOOKUP(A66,'PRJ-ACC'!A:AD,3,FALSE),"") -> 0 | C66: =IFERROR(VLOOKUP(A66,'PRJ-ACC'!A:AD,4,FALSE),"") -> Lamp | D66: =IFERROR(VLOOKUP(A66,'PRJ-ACC'!A:AD,5,FALSE),"") -> Lamp for MW560C | E66: =IFERROR(VLOOKUP(A66,'PRJ-ACC'!A:AD,6,FALSE),"") -> 8400460-4996-6 | F66: =IFERROR(VLOOKUP(A66,'PRJ-ACC'!A:AD,7,FALSE),"") -> 90 Days or 500 hours | G66: =IFERROR(VLOOKUP(A66,'PRJ-ACC'!A:AD,8,FALSE),"") -> 0.4 | H66: =IFERROR(VLOOKUP(A66,'PRJ-ACC'!A:AD,19,FALSE),"") -> 0
A67: Lens Options
A68: 5A.JTR37.01E | B68: =IFERROR(VLOOKUP(A68,'PRJ-ACC'!A:AD,3,FALSE),"") -> 0 | C68: =IFERROR(VLOOKUP(A68,'PRJ-ACC'!A:AD,4,FALSE),"") -> LS3ST1 | D68: =IFERROR(VLOOKUP(A68,'PRJ-ACC'!A:AD,5,FALSE),"") -> BenQ PJB LS3ST1 BLACK SHORT THROW | E68: =IFERROR(VLOOKUP(A68,'PRJ-ACC'!A:AD,6,FALSE),"") -> 8400460-5274-4 | F68: =IFERROR(VLOOKUP(A68,'PRJ-ACC'!A:AD,7,FALSE),"") -> One Year | G68: =IFERROR(VLOOKUP(A68,'PRJ-ACC'!A:AD,8,FALSE),"") -> 0 | H68: =IFERROR(VLOOKUP(A68,'PRJ-ACC'!A:AD,19,FALSE),"") -> 1600
A69: 5A.JTR37.02E | B69: =IFERROR(VLOOKUP(A69,'PRJ-ACC'!A:AD,3,FALSE),"") -> 0 | C69: =IFERROR(VLOOKUP(A69,'PRJ-ACC'!A:AD,4,FALSE),"") -> LS3ST2 | D69: =IFERROR(VLOOKUP(A69,'PRJ-ACC'!A:AD,5,FALSE),"") -> BenQ PJB LS3ST2 BLACK SHORT THROW | E69: =IFERROR(VLOOKUP(A69,'PRJ-ACC'!A:AD,6,FALSE),"") -> 8400460-5275-1 | F69: =IFERROR(VLOOKUP(A69,'PRJ-ACC'!A:AD,7,FALSE),"") -> One Year | G69: =IFERROR(VLOOKUP(A69,'PRJ-ACC'!A:AD,8,FALSE),"") -> 0 | H69: =IFERROR(VLOOKUP(A69,'PRJ-ACC'!A:AD,19,FALSE),"") -> 1600
A70: 5A.JTR37.03E | B70: =IFERROR(VLOOKUP(A70,'PRJ-ACC'!A:AD,3,FALSE),"") -> 0 | C70: =IFERROR(VLOOKUP(A70,'PRJ-ACC'!A:AD,4,FALSE),"") -> LS3ST3 | D70: =IFERROR(VLOOKUP(A70,'PRJ-ACC'!A:AD,5,FALSE),"") -> BenQ PJB LS3ST3 BLACK SEMI THROW | E70: =IFERROR(VLOOKUP(A70,'PRJ-ACC'!A:AD,6,FALSE),"") -> 8400460-5273-7 | F70: =IFERROR(VLOOKUP(A70,'PRJ-ACC'!A:AD,7,FALSE),"") -> One Year | G70: =IFERROR(VLOOKUP(A70,'PRJ-ACC'!A:AD,8,FALSE),"") -> 0 | H70: =IFERROR(VLOOKUP(A70,'PRJ-ACC'!A:AD,19,FALSE),"") -> 1000
A71: 5A.JTR37.04E | B71: =IFERROR(VLOOKUP(A71,'PRJ-ACC'!A:AD,3,FALSE),"") -> 0 | C71: =IFERROR(VLOOKUP(A71,'PRJ-ACC'!A:AD,4,FALSE),"") -> LS3SD1 | D71: =IFERROR(VLOOKUP(A71,'PRJ-ACC'!A:AD,5,FALSE),"") -> BenQ PJB LS3SD1 BLACK LONG ZOOM | E71: =IFERROR(VLOOKUP(A71,'PRJ-ACC'!A:AD,6,FALSE),"") -> 8400460-5272-0 | F71: =IFERROR(VLOOKUP(A71,'PRJ-ACC'!A:AD,7,FALSE),"") -> One Year | G71: =IFERROR(VLOOKUP(A71,'PRJ-ACC'!A:AD,8,FALSE),"") -> 0 | H71: =IFERROR(VLOOKUP(A71,'PRJ-ACC'!A:AD,19,FALSE),"") -> 1300
A72: 5J.JPN37.004 | B72: =IFERROR(VLOOKUP(A72,'PRJ-ACC'!A:AD,3,FALSE),"") -> 0 | C72: =IFERROR(VLOOKUP(A72,'PRJ-ACC'!A:AD,4,FALSE),"") -> LS1SDA | D72: =IFERROR(VLOOKUP(A72,'PRJ-ACC'!A:AD,5,FALSE),"") -> Optional Lens for LU9750 LU9800 - Standard 1.54-1.93 | E72: =IFERROR(VLOOKUP(A72,'PRJ-ACC'!A:AD,6,FALSE),"") -> 8400460-4631-6 | F72: =IFERROR(VLOOKUP(A72,'PRJ-ACC'!A:AD,7,FALSE),"") -> One Year | G72: =IFERROR(VLOOKUP(A72,'PRJ-ACC'!A:AD,8,FALSE),"") -> 4 | H72: =IFERROR(VLOOKUP(A72,'PRJ-ACC'!A:AD,19,FALSE),"") -> 1089
A73: 5J.JPN37.003 | B73: =IFERROR(VLOOKUP(A73,'PRJ-ACC'!A:AD,3,FALSE),"") -> 0 | C73: =IFERROR(VLOOKUP(A73,'PRJ-ACC'!A:AD,4,FALSE),"") -> LS1ST1A | D73: =IFERROR(VLOOKUP(A73,'PRJ-ACC'!A:AD,5,FALSE),"") -> Optional Lens for LU9750 LU9800 - Wide Zoom 1 TR 1.25-1.6 | E73: =IFERROR(VLOOKUP(A73,'PRJ-ACC'!A:AD,6,FALSE),"") -> 8400460-4632-3 | F73: =IFERROR(VLOOKUP(A73,'PRJ-ACC'!A:AD,7,FALSE),"") -> One Year | G73: =IFERROR(VLOOKUP(A73,'PRJ-ACC'!A:AD,8,FALSE),"") -> 4 | H73: =IFERROR(VLOOKUP(A73,'PRJ-ACC'!A:AD,19,FALSE),"") -> 1599
A74: 5J.JPN37.002 | B74: =IFERROR(VLOOKUP(A74,'PRJ-ACC'!A:AD,3,FALSE),"") -> 0 | C74: =IFERROR(VLOOKUP(A74,'PRJ-ACC'!A:AD,4,FALSE),"") -> LS1ST2A | D74: =IFERROR(VLOOKUP(A74,'PRJ-ACC'!A:AD,5,FALSE),"") -> Optional Lens for LU9750 LU9800 - Wide Zoom 2 TR 1.1-1.3 | E74: =IFERROR(VLOOKUP(A74,'PRJ-ACC'!A:AD,6,FALSE),"") -> 8400460-4633-0 | F74: =IFERROR(VLOOKUP(A74,'PRJ-ACC'!A:AD,7,FALSE),"") -> One Year | G74: =IFERROR(VLOOKUP(A74,'PRJ-ACC'!A:AD,8,FALSE),"") -> 4 | H74: =IFERROR(VLOOKUP(A74,'PRJ-ACC'!A:AD,19,FALSE),"") -> 1599
A75: 5J.JAM37.031 | B75: =IFERROR(VLOOKUP(A75,'PRJ-ACC'!A:AD,3,FALSE),"") -> 0 | C75: =IFERROR(VLOOKUP(A75,'PRJ-ACC'!A:AD,4,FALSE),"") -> LS1LT2 | D75: =IFERROR(VLOOKUP(A75,'PRJ-ACC'!A:AD,5,FALSE),"") -> Optional Lens for PX9710 PW9620 PU9730 LU9715 LU9915 LU9750 LU9800 - Long Zoom 1 TR 3.58-5.38 | E75: =IFERROR(VLOOKUP(A75,'PRJ-ACC'!A:AD,6,FALSE),"") -> 8400460-2959-3 | F75: =IFERROR(VLOOKUP(A75,'PRJ-ACC'!A:AD,7,FALSE),"") -> One Year | G75: =IFERROR(VLOOKUP(A75,'PRJ-ACC'!A:AD,8,FALSE),"") -> 3.2 | H75: =IFERROR(VLOOKUP(A75,'PRJ-ACC'!A:AD,19,FALSE),"") -> 2045
A76: 5J.JAM37.041 | B76: =IFERROR(VLOOKUP(A76,'PRJ-ACC'!A:AD,3,FALSE),"") -> 0 | C76: =IFERROR(VLOOKUP(A76,'PRJ-ACC'!A:AD,4,FALSE),"") -> LS1LT3 | D76: =IFERROR(VLOOKUP(A76,'PRJ-ACC'!A:AD,5,FALSE),"") -> Optional Lens for PX9710 PW9620 PU9730 LU9715 LU9915 LU9750 LU9800- Long Zoom 2 TR 5.31-8.26 | E76: =IFERROR(VLOOKUP(A76,'PRJ-ACC'!A:AD,6,FALSE),"") -> 8400460-2958-6 | F76: =IFERROR(VLOOKUP(A76,'PRJ-ACC'!A:AD,7,FALSE),"") -> One Year | G76: =IFERROR(VLOOKUP(A76,'PRJ-ACC'!A:AD,8,FALSE),"") -> 2.2 | H76: =IFERROR(VLOOKUP(A76,'PRJ-ACC'!A:AD,19,FALSE),"") -> 2045
A77: 5J.JAM37.051 | B77: =IFERROR(VLOOKUP(A77,'PRJ-ACC'!A:AD,3,FALSE),"") -> 0 | C77: =IFERROR(VLOOKUP(A77,'PRJ-ACC'!A:AD,4,FALSE),"") -> LS1LT1 | D77: =IFERROR(VLOOKUP(A77,'PRJ-ACC'!A:AD,5,FALSE),"") -> Optional Lens for PX9710 PW9620 PU9730 LU9715 LU9915 LU9750 LU9800 - Semi Long 1 TR 2.22-3.67 | E77: =IFERROR(VLOOKUP(A77,'PRJ-ACC'!A:AD,6,FALSE),"") -> 8400460-2957-9 | F77: =IFERROR(VLOOKUP(A77,'PRJ-ACC'!A:AD,7,FALSE),"") -> One Year | G77: =IFERROR(VLOOKUP(A77,'PRJ-ACC'!A:AD,8,FALSE),"") -> 2.5 | H77: =IFERROR(VLOOKUP(A77,'PRJ-ACC'!A:AD,19,FALSE),"") -> 2045
A78: 5J.JPN37.005 | B78: =IFERROR(VLOOKUP(A78,'PRJ-ACC'!A:AD,3,FALSE),"") -> 0 | C78: =IFERROR(VLOOKUP(A78,'PRJ-ACC'!A:AD,4,FALSE),"") -> LS1LT0 | D78: =IFERROR(VLOOKUP(A78,'PRJ-ACC'!A:AD,5,FALSE),"") -> Optional Lens for LU9750 LU9800 - Semi long TR 1.93-2.9 | E78: =IFERROR(VLOOKUP(A78,'PRJ-ACC'!A:AD,6,FALSE),"") -> 8400460-4630-9 | F78: =IFERROR(VLOOKUP(A78,'PRJ-ACC'!A:AD,7,FALSE),"") -> One Year | G78: =IFERROR(VLOOKUP(A78,'PRJ-ACC'!A:AD,8,FALSE),"") -> 3 | H78: =IFERROR(VLOOKUP(A78,'PRJ-ACC'!A:AD,19,FALSE),"") -> 1599
A79: 5J.JPN37.001 | B79: =IFERROR(VLOOKUP(A79,'PRJ-ACC'!A:AD,3,FALSE),"") -> 0 | C79: =IFERROR(VLOOKUP(A79,'PRJ-ACC'!A:AD,4,FALSE),"") -> LS1ST3A | D79: =IFERROR(VLOOKUP(A79,'PRJ-ACC'!A:AD,5,FALSE),"") -> Optional Lens for LU9750 LU9800 - Short throw TR 0.77-1.1 | E79: =IFERROR(VLOOKUP(A79,'PRJ-ACC'!A:AD,6,FALSE),"") -> 8400460-4634-7 | F79: =IFERROR(VLOOKUP(A79,'PRJ-ACC'!A:AD,7,FALSE),"") -> One Year | G79: =IFERROR(VLOOKUP(A79,'PRJ-ACC'!A:AD,8,FALSE),"") -> 4 | H79: =IFERROR(VLOOKUP(A79,'PRJ-ACC'!A:AD,19,FALSE),"") -> 2499
A80: 5J.JCY37.001 | B80: =IFERROR(VLOOKUP(A80,'PRJ-ACC'!A:AD,3,FALSE),"") -> 0 | C80: =IFERROR(VLOOKUP(A80,'PRJ-ACC'!A:AD,4,FALSE),"") -> LS1ST4 | D80: =IFERROR(VLOOKUP(A80,'PRJ-ACC'!A:AD,5,FALSE),"") -> Optioanl Lens for PX9710 PW9620 PU9730 LU9715 LU9915 LU9750 LU9800 - Ultra Short Throw (TR 0.38) | E80: =IFERROR(VLOOKUP(A80,'PRJ-ACC'!A:AD,6,FALSE),"") -> 8400 460 3491 7 | F80: =IFERROR(VLOOKUP(A80,'PRJ-ACC'!A:AD,7,FALSE),"") -> One Year | G80: =IFERROR(VLOOKUP(A80,'PRJ-ACC'!A:AD,8,FALSE),"") -> 0 | H80: =IFERROR(VLOOKUP(A80,'PRJ-ACC'!A:AD,19,FALSE),"") -> 6248
A81: CEILING MOUNT
A82: 5J.JAM10.001 | B82: =IFERROR(VLOOKUP(A82,'PRJ-ACC'!A:AD,3,FALSE),"") -> 0 | C82: =IFERROR(VLOOKUP(A82,'PRJ-ACC'!A:AD,4,FALSE),"") -> CM00G3 | D82: =IFERROR(VLOOKUP(A82,'PRJ-ACC'!A:AD,5,FALSE),"") -> Universal Ceiling Mount All BenQ model except GP series, 8 series, P series | E82: =IFERROR(VLOOKUP(A82,'PRJ-ACC'!A:AD,6,FALSE),"") -> 8400460-3013-1 | F82: =IFERROR(VLOOKUP(A82,'PRJ-ACC'!A:AD,7,FALSE),"") -> 90 days | G82: =IFERROR(VLOOKUP(A82,'PRJ-ACC'!A:AD,8,FALSE),"") -> 11 | H82: =IFERROR(VLOOKUP(A82,'PRJ-ACC'!A:AD,19,FALSE),"") -> 79.28
A83: 5J.J8E10.001 | B83: =IFERROR(VLOOKUP(A83,'PRJ-ACC'!A:AD,3,FALSE),"") -> Limited supply | C83: =IFERROR(VLOOKUP(A83,'PRJ-ACC'!A:AD,4,FALSE),"") -> WM06G3_D | D83: =IFERROR(VLOOKUP(A83,'PRJ-ACC'!A:AD,5,FALSE),"") -> 0.6 Wall Mount for MW821ST | E83: =IFERROR(VLOOKUP(A83,'PRJ-ACC'!A:AD,6,FALSE),"") -> 8400460-2897-8 | F83: =IFERROR(VLOOKUP(A83,'PRJ-ACC'!A:AD,7,FALSE),"") -> 90 days | G83: =IFERROR(VLOOKUP(A83,'PRJ-ACC'!A:AD,8,FALSE),"") -> 10.5 | H83: =IFERROR(VLOOKUP(A83,'PRJ-ACC'!A:AD,19,FALSE),"") -> 99
A84: CARRYING CASE
A85: 5J.BQA09.001 | B85: =IFERROR(VLOOKUP(A85,'PRJ-ACC'!A:AD,3,FALSE),"") -> 0 | C85: =IFERROR(VLOOKUP(A85,'PRJ-ACC'!A:AD,4,FALSE),"") -> treVolo_Case | D85: =IFERROR(VLOOKUP(A85,'PRJ-ACC'!A:AD,5,FALSE),"") -> Travel Case for BenQ treVolo Speaker | E85: =IFERROR(VLOOKUP(A85,'PRJ-ACC'!A:AD,6,FALSE),"") -> 8400460-3305-7 | F85: =IFERROR(VLOOKUP(A85,'PRJ-ACC'!A:AD,7,FALSE),"") -> 90 days | G85: =IFERROR(VLOOKUP(A85,'PRJ-ACC'!A:AD,8,FALSE),"") -> 1 | H85: =IFERROR(VLOOKUP(A85,'PRJ-ACC'!A:AD,19,FALSE),"") -> 39
A86: 5J.J2N09.001 | B86: =IFERROR(VLOOKUP(A86,'PRJ-ACC'!A:AD,3,FALSE),"") -> Limited supply | C86: =IFERROR(VLOOKUP(A86,'PRJ-ACC'!A:AD,4,FALSE),"") -> Case | D86: =IFERROR(VLOOKUP(A86,'PRJ-ACC'!A:AD,5,FALSE),"") -> Soft Carrying Case for SP840 | E86: =IFERROR(VLOOKUP(A86,'PRJ-ACC'!A:AD,6,FALSE),"") -> 8400460-2031-6 | F86: =IFERROR(VLOOKUP(A86,'PRJ-ACC'!A:AD,7,FALSE),"") -> 90 days | G86: =IFERROR(VLOOKUP(A86,'PRJ-ACC'!A:AD,8,FALSE),"") -> 2 | H86: =IFERROR(VLOOKUP(A86,'PRJ-ACC'!A:AD,19,FALSE),"") -> 69
A87: 5J.J2V09.011 | B87: =IFERROR(VLOOKUP(A87,'PRJ-ACC'!A:AD,3,FALSE),"") -> Limited supply | C87: =IFERROR(VLOOKUP(A87,'PRJ-ACC'!A:AD,4,FALSE),"") -> BGFM01 | D87: =IFERROR(VLOOKUP(A87,'PRJ-ACC'!A:AD,5,FALSE),"") -> Soft Carrying Case for MX750,MP780ST, W1100, W1200, MP780ST+, SH910, W1100, W1200, MW860USTi, MW870UST, MW767, MX766, MX822ST, MX768, MW769, TH670, TH671ST, MW705, HT1070, W1090, BH3020, MU686 | E87: =IFERROR(VLOOKUP(A87,'PRJ-ACC'!A:AD,6,FALSE),"") -> 8400460-2393-5 | F87: =IFERROR(VLOOKUP(A87,'PRJ-ACC'!A:AD,7,FALSE),"") -> 90 days | G87: =IFERROR(VLOOKUP(A87,'PRJ-ACC'!A:AD,8,FALSE),"") -> 2 | H87: =IFERROR(VLOOKUP(A87,'PRJ-ACC'!A:AD,19,FALSE),"") -> 39
A88: 5J.J3C09.001 | B88: =IFERROR(VLOOKUP(A88,'PRJ-ACC'!A:AD,3,FALSE),"") -> Limited supply | C88: =IFERROR(VLOOKUP(A88,'PRJ-ACC'!A:AD,4,FALSE),"") -> Case | D88: =IFERROR(VLOOKUP(A88,'PRJ-ACC'!A:AD,5,FALSE),"") -> Soft Carrying Case for GP2 | E88: =IFERROR(VLOOKUP(A88,'PRJ-ACC'!A:AD,6,FALSE),"") -> 8400460-2474-1 | F88: =IFERROR(VLOOKUP(A88,'PRJ-ACC'!A:AD,7,FALSE),"") -> 90 days | G88: =IFERROR(VLOOKUP(A88,'PRJ-ACC'!A:AD,8,FALSE),"") -> 1 | H88: =IFERROR(VLOOKUP(A88,'PRJ-ACC'!A:AD,19,FALSE),"") -> 39
A89: 5J.J3T09.001 | B89: =IFERROR(VLOOKUP(A89,'PRJ-ACC'!A:AD,3,FALSE),"") -> 0 | C89: =IFERROR(VLOOKUP(A89,'PRJ-ACC'!A:AD,4,FALSE),"") -> BGQS01 | D89: =IFERROR(VLOOKUP(A89,'PRJ-ACC'!A:AD,5,FALSE),"") -> Soft Carrying Case for MX710, MX711, MX660, MS614, MX615, MS612ST, MX613ST, MX660P, MX615+, MX701, MX501, MS500, MS500+, MP611, MP575, MP615P, MP625P,MP612,MP622, MP512/ST, MP623/MP624,MP523, MS510, MX511,MW512, MX716, W700, W710ST, W1060, EP5920, MW814ST, MX816ST, MW817ST, MS502, MX503, MX520, MX703, MX720, MW721, W1070, W1080ST, MW663, MS616ST, MX618ST, MX661, MX662, MH680, MX600, MS619ST, MX620ST, MW621ST, HT1075, HT1085ST, MS524, MX525,MW526, MX819ST, MW820ST, MX823ST, MW824ST, MW712, MW516, MS513, MX514, MX813ST, MW815ST, MS517, MX518, MW519, MS521, MX522, MW523, MX723, MX570, MS504A, MX631ST, MW632ST, MW571, MS524A, MX525A, MW526A, MH530, MS527E, MX528E, MW529E, MS517EH (BestBuy Canada only), BH3002 (B&H only), MW571H, MW612, MH733, MW732, MX731, MX707, MW707, TH585, TH671ST, TH685, TH685i, MH560, MS560, MW560, MX560, TH585P, TH685P, EH600, LW500, LW500ST, TH575 | E89: =IFERROR(VLOOKUP(A89,'PRJ-ACC'!A:AD,6,FALSE),"") -> 8400460-2184-9 | F89: =IFERROR(VLOOKUP(A89,'PRJ-ACC'!A:AD,7,FALSE),"") -> 90 days | G89: =IFERROR(VLOOKUP(A89,'PRJ-ACC'!A:AD,8,FALSE),"") -> 2 | H89: =IFERROR(VLOOKUP(A89,'PRJ-ACC'!A:AD,19,FALSE),"") -> 39
A90: 5J.J4R09.001 | B90: =IFERROR(VLOOKUP(A90,'PRJ-ACC'!A:AD,3,FALSE),"") -> 0 | C90: =IFERROR(VLOOKUP(A90,'PRJ-ACC'!A:AD,4,FALSE),"") -> BGFS01 | D90: =IFERROR(VLOOKUP(A90,'PRJ-ACC'!A:AD,5,FALSE),"") -> HT1070A, MH530FHD, MH534, MS521H, MS524AE, MS531, MS531P, MW526AE, MW533, MW712, MX532, MX532P, TH534, TW533, W1050, W1050S, MS535A, MW535A, MH535A, MH535FHD, MS536 (Alt. 5J.J8F09.001), MW536, MX536 | E90: =IFERROR(VLOOKUP(A90,'PRJ-ACC'!A:AD,6,FALSE),"") -> 8400460-2449-9 | F90: =IFERROR(VLOOKUP(A90,'PRJ-ACC'!A:AD,7,FALSE),"") -> 90 days | G90: =IFERROR(VLOOKUP(A90,'PRJ-ACC'!A:AD,8,FALSE),"") -> 2 | H90: =IFERROR(VLOOKUP(A90,'PRJ-ACC'!A:AD,19,FALSE),"") -> 29
A91: 5J.J5V09.001 | B91: =IFERROR(VLOOKUP(A91,'PRJ-ACC'!A:AD,3,FALSE),"") -> 0 | C91: =IFERROR(VLOOKUP(A91,'PRJ-ACC'!A:AD,4,FALSE),"") -> BGQL01 | D91: =IFERROR(VLOOKUP(A91,'PRJ-ACC'!A:AD,5,FALSE),"") -> Soft Carrying Case for HT2050, HT2060, HT3050, HT2150ST, HT2550, HT3550, HT3550i, HT3560, MH750, MH760, TK800, TK800M, TK850, TK810, TK850i, HT2050A, TK700STi, TK700, TK860i, TH690ST, LH600ST, LW600ST, W1700, W2700, EH700 | E91: =IFERROR(VLOOKUP(A91,'PRJ-ACC'!A:AD,6,FALSE),"") -> 8400460-2490-1 | F91: =IFERROR(VLOOKUP(A91,'PRJ-ACC'!A:AD,7,FALSE),"") -> 90 days | G91: =IFERROR(VLOOKUP(A91,'PRJ-ACC'!A:AD,8,FALSE),"") -> 2 | H91: =IFERROR(VLOOKUP(A91,'PRJ-ACC'!A:AD,19,FALSE),"") -> 49
A92: 5J.JKL09.002 | B92: =IFERROR(VLOOKUP(A92,'PRJ-ACC'!A:AD,3,FALSE),"") -> Limited supply | C92: =IFERROR(VLOOKUP(A92,'PRJ-ACC'!A:AD,4,FALSE),"") -> Case | D92: =IFERROR(VLOOKUP(A92,'PRJ-ACC'!A:AD,5,FALSE),"") -> Carry bag for PRJ GV1 | E92: =IFERROR(VLOOKUP(A92,'PRJ-ACC'!A:AD,6,FALSE),"") -> 8400460-4172-4 | F92: =IFERROR(VLOOKUP(A92,'PRJ-ACC'!A:AD,7,FALSE),"") -> 90 days | G92: =IFERROR(VLOOKUP(A92,'PRJ-ACC'!A:AD,8,FALSE),"") -> 1 | H92: =IFERROR(VLOOKUP(A92,'PRJ-ACC'!A:AD,19,FALSE),"") -> 10
A93: 5J.JPA09.001 | B93: =IFERROR(VLOOKUP(A93,'PRJ-ACC'!A:AD,3,FALSE),"") -> 0 | C93: =IFERROR(VLOOKUP(A93,'PRJ-ACC'!A:AD,4,FALSE),"") -> Case | D93: =IFERROR(VLOOKUP(A93,'PRJ-ACC'!A:AD,5,FALSE),"") -> Carry Bag for GV30 | E93: =IFERROR(VLOOKUP(A93,'PRJ-ACC'!A:AD,6,FALSE),"") -> 8400460-4694-1 | F93: =IFERROR(VLOOKUP(A93,'PRJ-ACC'!A:AD,7,FALSE),"") -> 90 days | G93: =IFERROR(VLOOKUP(A93,'PRJ-ACC'!A:AD,8,FALSE),"") -> 1.35 | H93: =IFERROR(VLOOKUP(A93,'PRJ-ACC'!A:AD,19,FALSE),"") -> 19
A94: 5J.JPC09.001 | B94: =IFERROR(VLOOKUP(A94,'PRJ-ACC'!A:AD,3,FALSE),"") -> 0 | C94: =IFERROR(VLOOKUP(A94,'PRJ-ACC'!A:AD,4,FALSE),"") -> Case | D94: =IFERROR(VLOOKUP(A94,'PRJ-ACC'!A:AD,5,FALSE),"") -> Carry Bag for GS50 | E94: =IFERROR(VLOOKUP(A94,'PRJ-ACC'!A:AD,6,FALSE),"") -> 8400460-4693-4 | F94: =IFERROR(VLOOKUP(A94,'PRJ-ACC'!A:AD,7,FALSE),"") -> 90 days | G94: =IFERROR(VLOOKUP(A94,'PRJ-ACC'!A:AD,8,FALSE),"") -> 1.25 | H94: =IFERROR(VLOOKUP(A94,'PRJ-ACC'!A:AD,19,FALSE),"") -> 19
A95: 5J.JS809.002 | B95: =IFERROR(VLOOKUP(A95,'PRJ-ACC'!A:AD,3,FALSE),"") -> 0 | C95: =IFERROR(VLOOKUP(A95,'PRJ-ACC'!A:AD,4,FALSE),"") -> Case | D95: =IFERROR(VLOOKUP(A95,'PRJ-ACC'!A:AD,5,FALSE),"") -> Carry Bag for GV31/GV50/GV32 | E95: =IFERROR(VLOOKUP(A95,'PRJ-ACC'!A:AD,6,FALSE),"") -> 8400460-5101-3 | F95: =IFERROR(VLOOKUP(A95,'PRJ-ACC'!A:AD,7,FALSE),"") -> 90 days | G95: =IFERROR(VLOOKUP(A95,'PRJ-ACC'!A:AD,8,FALSE),"") -> 1 | H95: =IFERROR(VLOOKUP(A95,'PRJ-ACC'!A:AD,19,FALSE),"") -> 59
A96: 5J.JSR09.001 | B96: =IFERROR(VLOOKUP(A96,'PRJ-ACC'!A:AD,3,FALSE),"") -> 0 | C96: =IFERROR(VLOOKUP(A96,'PRJ-ACC'!A:AD,4,FALSE),"") -> Case | D96: =IFERROR(VLOOKUP(A96,'PRJ-ACC'!A:AD,5,FALSE),"") -> Carry Bag for GV31/GV50/GV32 | E96: =IFERROR(VLOOKUP(A96,'PRJ-ACC'!A:AD,6,FALSE),"") -> 8400460-5040-5 | F96: =IFERROR(VLOOKUP(A96,'PRJ-ACC'!A:AD,7,FALSE),"") -> 90 days | G96: =IFERROR(VLOOKUP(A96,'PRJ-ACC'!A:AD,8,FALSE),"") -> 1 | H96: =IFERROR(VLOOKUP(A96,'PRJ-ACC'!A:AD,19,FALSE),"") -> 59
... A98: 5A.R0J10.00E | B98: =IFERROR(VLOOKUP(A98,'PRJ-ACC'!A:AD,3,FALSE),"") -> 0 | C98: =IFERROR(VLOOKUP(A98,'PRJ-ACC'!A:AD,4,FALSE),"") -> Stand | D98: =IFERROR(VLOOKUP(A98,'PRJ-ACC'!A:AD,5,FALSE),"") -> Table Stand for GP520/TK705i/TK705STi | E98: =IFERROR(VLOOKUP(A98,'PRJ-ACC'!A:AD,6,FALSE),"") -> 8400460-5257-7 | F98: =IFERROR(VLOOKUP(A98,'PRJ-ACC'!A:AD,7,FALSE),"") -> 90 days | G98: =IFERROR(VLOOKUP(A98,'PRJ-ACC'!A:AD,8,FALSE),"") -> 0 | H98: =IFERROR(VLOOKUP(A98,'PRJ-ACC'!A:AD,19,FALSE),"") -> 99
A99: REMOTE CONTROL
A100: 5J.04J06.001 | B100: =IFERROR(VLOOKUP(A100,'PRJ-ACC'!A:AD,3,FALSE),"") -> Limited supply | C100: =IFERROR(VLOOKUP(A100,'PRJ-ACC'!A:AD,4,FALSE),"") -> RCV023 | D100: =IFERROR(VLOOKUP(A100,'PRJ-ACC'!A:AD,5,FALSE),"") -> BenQ Projector Remote for HT6050 | E100: =IFERROR(VLOOKUP(A100,'PRJ-ACC'!A:AD,6,FALSE),"") -> 8400460-3396-5 | F100: =IFERROR(VLOOKUP(A100,'PRJ-ACC'!A:AD,7,FALSE),"") -> 90 days | G100: =IFERROR(VLOOKUP(A100,'PRJ-ACC'!A:AD,8,FALSE),"") -> 1 | H100: =IFERROR(VLOOKUP(A100,'PRJ-ACC'!A:AD,19,FALSE),"") -> 59
A101: 5J.J1U06.001 | B101: =IFERROR(VLOOKUP(A101,'PRJ-ACC'!A:AD,3,FALSE),"") -> Limited supply | C101: =IFERROR(VLOOKUP(A101,'PRJ-ACC'!A:AD,4,FALSE),"") -> Remote | D101: =IFERROR(VLOOKUP(A101,'PRJ-ACC'!A:AD,5,FALSE),"") -> BenQ Projector Remote for W600, W1000, W600+, W1000+ | E101: =IFERROR(VLOOKUP(A101,'PRJ-ACC'!A:AD,6,FALSE),"") -> 8400460-2011-8 | F101: =IFERROR(VLOOKUP(A101,'PRJ-ACC'!A:AD,7,FALSE),"") -> 90 days | G101: =IFERROR(VLOOKUP(A101,'PRJ-ACC'!A:AD,8,FALSE),"") -> 1 | H101: =IFERROR(VLOOKUP(A101,'PRJ-ACC'!A:AD,19,FALSE),"") -> 69
A102: 5J.J2S06.001 | B102: =IFERROR(VLOOKUP(A102,'PRJ-ACC'!A:AD,3,FALSE),"") -> Limited supply | C102: =IFERROR(VLOOKUP(A102,'PRJ-ACC'!A:AD,4,FALSE),"") -> Remote | D102: =IFERROR(VLOOKUP(A102,'PRJ-ACC'!A:AD,5,FALSE),"") -> BenQ Projector Remote for MP615P, MP625P | E102: =IFERROR(VLOOKUP(A102,'PRJ-ACC'!A:AD,6,FALSE),"") -> 8400460-2008-8 | F102: =IFERROR(VLOOKUP(A102,'PRJ-ACC'!A:AD,7,FALSE),"") -> 90 days | G102: =IFERROR(VLOOKUP(A102,'PRJ-ACC'!A:AD,8,FALSE),"") -> 1 | H102: =IFERROR(VLOOKUP(A102,'PRJ-ACC'!A:AD,19,FALSE),"") -> 59
A103: 5J.J3906.001 | B103: =IFERROR(VLOOKUP(A103,'PRJ-ACC'!A:AD,3,FALSE),"") -> Limited supply | C103: =IFERROR(VLOOKUP(A103,'PRJ-ACC'!A:AD,4,FALSE),"") -> Remote | D103: =IFERROR(VLOOKUP(A103,'PRJ-ACC'!A:AD,5,FALSE),"") -> BenQ Projector Remote for W7000/W7500 | E103: =IFERROR(VLOOKUP(A103,'PRJ-ACC'!A:AD,6,FALSE),"") -> 8400460-2510-6 | F103: =IFERROR(VLOOKUP(A103,'PRJ-ACC'!A:AD,7,FALSE),"") -> 90 days | G103: =IFERROR(VLOOKUP(A103,'PRJ-ACC'!A:AD,8,FALSE),"") -> 1 | H103: =IFERROR(VLOOKUP(A103,'PRJ-ACC'!A:AD,19,FALSE),"") -> 69
A104: 5J.J3H06.001 | B104: =IFERROR(VLOOKUP(A104,'PRJ-ACC'!A:AD,3,FALSE),"") -> Limited supply | C104: =IFERROR(VLOOKUP(A104,'PRJ-ACC'!A:AD,4,FALSE),"") -> RCP012 | D104: =IFERROR(VLOOKUP(A104,'PRJ-ACC'!A:AD,5,FALSE),"") -> BenQ Projector Remote for GP20 | E104: =IFERROR(VLOOKUP(A104,'PRJ-ACC'!A:AD,6,FALSE),"") -> 8400460-2882-4 | F104: =IFERROR(VLOOKUP(A104,'PRJ-ACC'!A:AD,7,FALSE),"") -> 90 days | G104: =IFERROR(VLOOKUP(A104,'PRJ-ACC'!A:AD,8,FALSE),"") -> 0 | H104: =IFERROR(VLOOKUP(A104,'PRJ-ACC'!A:AD,19,FALSE),"") -> 39
A105: 5J.J3W06.001 | B105: =IFERROR(VLOOKUP(A105,'PRJ-ACC'!A:AD,3,FALSE),"") -> Limited supply | C105: =IFERROR(VLOOKUP(A105,'PRJ-ACC'!A:AD,4,FALSE),"") -> RCE016 | D105: =IFERROR(VLOOKUP(A105,'PRJ-ACC'!A:AD,5,FALSE),"") -> BenQ Projector Remote RCE016 for LH710, LH930, LU710, LU930 | E105: =IFERROR(VLOOKUP(A105,'PRJ-ACC'!A:AD,6,FALSE),"") -> 8400460-4158-8 | F105: =IFERROR(VLOOKUP(A105,'PRJ-ACC'!A:AD,7,FALSE),"") -> 90 days | G105: =IFERROR(VLOOKUP(A105,'PRJ-ACC'!A:AD,8,FALSE),"") -> 1 | H105: =IFERROR(VLOOKUP(A105,'PRJ-ACC'!A:AD,19,FALSE),"") -> 49
A106: 5J.J4G06.001 | B106: =IFERROR(VLOOKUP(A106,'PRJ-ACC'!A:AD,3,FALSE),"") -> Limited supply | C106: =IFERROR(VLOOKUP(A106,'PRJ-ACC'!A:AD,4,FALSE),"") -> Remote | D106: =IFERROR(VLOOKUP(A106,'PRJ-ACC'!A:AD,5,FALSE),"") -> BenQ Projector Remote for W1100, W1200 | E106: =IFERROR(VLOOKUP(A106,'PRJ-ACC'!A:AD,6,FALSE),"") -> 8400460-2265-5 | F106: =IFERROR(VLOOKUP(A106,'PRJ-ACC'!A:AD,7,FALSE),"") -> 90 days | G106: =IFERROR(VLOOKUP(A106,'PRJ-ACC'!A:AD,8,FALSE),"") -> 1 | H106: =IFERROR(VLOOKUP(A106,'PRJ-ACC'!A:AD,19,FALSE),"") -> 69
A107: 5J.J5E06.001 | B107: =IFERROR(VLOOKUP(A107,'PRJ-ACC'!A:AD,3,FALSE),"") -> Limited supply | C107: =IFERROR(VLOOKUP(A107,'PRJ-ACC'!A:AD,4,FALSE),"") -> Remote | D107: =IFERROR(VLOOKUP(A107,'PRJ-ACC'!A:AD,5,FALSE),"") -> BenQ Projector Remote for MS513, MX514, MW516 | E107: =IFERROR(VLOOKUP(A107,'PRJ-ACC'!A:AD,6,FALSE),"") -> 8400460-2396-6 | F107: =IFERROR(VLOOKUP(A107,'PRJ-ACC'!A:AD,7,FALSE),"") -> 90 days | G107: =IFERROR(VLOOKUP(A107,'PRJ-ACC'!A:AD,8,FALSE),"") -> 1 | H107: =IFERROR(VLOOKUP(A107,'PRJ-ACC'!A:AD,19,FALSE),"") -> 39
A108: 5J.J5X06.001 | B108: =IFERROR(VLOOKUP(A108,'PRJ-ACC'!A:AD,3,FALSE),"") -> Limited supply | C108: =IFERROR(VLOOKUP(A108,'PRJ-ACC'!A:AD,4,FALSE),"") -> Remote | D108: =IFERROR(VLOOKUP(A108,'PRJ-ACC'!A:AD,5,FALSE),"") -> BenQ Projector Remote for MX716 | E108: =IFERROR(VLOOKUP(A108,'PRJ-ACC'!A:AD,6,FALSE),"") -> 8400460-2445-1 | F108: =IFERROR(VLOOKUP(A108,'PRJ-ACC'!A:AD,7,FALSE),"") -> 90 days | G108: =IFERROR(VLOOKUP(A108,'PRJ-ACC'!A:AD,8,FALSE),"") -> 1 | H108: =IFERROR(VLOOKUP(A108,'PRJ-ACC'!A:AD,19,FALSE),"") -> 49
A109: 5J.J6H06.001 | B109: =IFERROR(VLOOKUP(A109,'PRJ-ACC'!A:AD,3,FALSE),"") -> Limited supply | C109: =IFERROR(VLOOKUP(A109,'PRJ-ACC'!A:AD,4,FALSE),"") -> Remote | D109: =IFERROR(VLOOKUP(A109,'PRJ-ACC'!A:AD,5,FALSE),"") -> BenQ Projector Remote for MS502, MX503 | E109: =IFERROR(VLOOKUP(A109,'PRJ-ACC'!A:AD,6,FALSE),"") -> 8400460-2524-3 | F109: =IFERROR(VLOOKUP(A109,'PRJ-ACC'!A:AD,7,FALSE),"") -> 90 days | G109: =IFERROR(VLOOKUP(A109,'PRJ-ACC'!A:AD,8,FALSE),"") -> 1 | H109: =IFERROR(VLOOKUP(A109,'PRJ-ACC'!A:AD,19,FALSE),"") -> 39
A110: 5J.J6R06.001 | B110: =IFERROR(VLOOKUP(A110,'PRJ-ACC'!A:AD,3,FALSE),"") -> Limited supply | C110: =IFERROR(VLOOKUP(A110,'PRJ-ACC'!A:AD,4,FALSE),"") -> RCE011 | D110: =IFERROR(VLOOKUP(A110,'PRJ-ACC'!A:AD,5,FALSE),"") -> BenQ Projector Remote for MW721, MW767, MX720, MX766, MX822ST, MW820ST, MX819ST, MW870UST, MP780ST, MP780ST+, MX750, MW860USTi | E110: =IFERROR(VLOOKUP(A110,'PRJ-ACC'!A:AD,6,FALSE),"") -> 8400460-2726-1 | F110: =IFERROR(VLOOKUP(A110,'PRJ-ACC'!A:AD,7,FALSE),"") -> 90 days | G110: =IFERROR(VLOOKUP(A110,'PRJ-ACC'!A:AD,8,FALSE),"") -> 1 | H110: =IFERROR(VLOOKUP(A110,'PRJ-ACC'!A:AD,19,FALSE),"") -> 49
A111: 5J.J8A06.001 | B111: =IFERROR(VLOOKUP(A111,'PRJ-ACC'!A:AD,3,FALSE),"") -> Limited supply | C111: =IFERROR(VLOOKUP(A111,'PRJ-ACC'!A:AD,4,FALSE),"") -> RCA021 | D111: =IFERROR(VLOOKUP(A111,'PRJ-ACC'!A:AD,5,FALSE),"") -> BenQ Projector Remote for SH940, SH963, TH963, SX912, MH740, SW916, SH915, MW769, MX768, SH960 | E111: =IFERROR(VLOOKUP(A111,'PRJ-ACC'!A:AD,6,FALSE),"") -> 8400460-2724-7 | F111: =IFERROR(VLOOKUP(A111,'PRJ-ACC'!A:AD,7,FALSE),"") -> 90 days | G111: =IFERROR(VLOOKUP(A111,'PRJ-ACC'!A:AD,8,FALSE),"") -> 1 | H111: =IFERROR(VLOOKUP(A111,'PRJ-ACC'!A:AD,19,FALSE),"") -> 59
... A150: 5J.JRF06.001 | B150: =IFERROR(VLOOKUP(A150,'PRJ-ACC'!A:AD,3,FALSE),"") -> 0 | C150: =IFERROR(VLOOKUP(A150,'PRJ-ACC'!A:AD,4,FALSE),"") -> RCI081 | D150: =IFERROR(VLOOKUP(A150,'PRJ-ACC'!A:AD,5,FALSE),"") -> Remote for TH575i | E150: =IFERROR(VLOOKUP(A150,'PRJ-ACC'!A:AD,6,FALSE),"") -> 8400460-5365-9 | F150: =IFERROR(VLOOKUP(A150,'PRJ-ACC'!A:AD,7,FALSE),"") -> 90 days | G150: =IFERROR(VLOOKUP(A150,'PRJ-ACC'!A:AD,8,FALSE),"") -> 1 | H150: =IFERROR(VLOOKUP(A150,'PRJ-ACC'!A:AD,19,FALSE),"") -> 0
A151: Other Accessories
A152: 5A.JH328.004 | B152: =IFERROR(VLOOKUP(A152,'PRJ-ACC'!A:AD,3,FALSE),"") -> 0 | C152: =IFERROR(VLOOKUP(A152,'PRJ-ACC'!A:AD,4,FALSE),"") -> QP30 | D152: =IFERROR(VLOOKUP(A152,'PRJ-ACC'!A:AD,5,FALSE),"") -> BenQ Qcast 4K Dongle- compatibile with PRJs with HDMI connector | E152: =IFERROR(VLOOKUP(A152,'PRJ-ACC'!A:AD,6,FALSE),"") -> 8400460-4896-9 | F152: =IFERROR(VLOOKUP(A152,'PRJ-ACC'!A:AD,7,FALSE),"") -> 90 days | G152: =IFERROR(VLOOKUP(A152,'PRJ-ACC'!A:AD,8,FALSE),"") -> 0.3 | H152: =IFERROR(VLOOKUP(A152,'PRJ-ACC'!A:AD,19,FALSE),"") -> 139
A153: 5J.JPT28.001 | B153: =IFERROR(VLOOKUP(A153,'PRJ-ACC'!A:AD,3,FALSE),"") -> 0 | C153: =IFERROR(VLOOKUP(A153,'PRJ-ACC'!A:AD,4,FALSE),"") -> QCast Mirror EZC5201BS | D153: =IFERROR(VLOOKUP(A153,'PRJ-ACC'!A:AD,5,FALSE),"") -> QCast Mirror EZC5201BS USB Wireless Dongle (compatible with limited models, LH600ST, LW600ST, LW650, LH650 , LH730) | E153: =IFERROR(VLOOKUP(A153,'PRJ-ACC'!A:AD,6,FALSE),"") -> 8400460-4682-8 | F153: =IFERROR(VLOOKUP(A153,'PRJ-ACC'!A:AD,7,FALSE),"") -> 90 days | G153: =IFERROR(VLOOKUP(A153,'PRJ-ACC'!A:AD,8,FALSE),"") -> 0 | H153: =IFERROR(VLOOKUP(A153,'PRJ-ACC'!A:AD,19,FALSE),"") -> 49
A154: 5J.JF828.A60 | B154: =IFERROR(VLOOKUP(A154,'PRJ-ACC'!A:AD,3,FALSE),"") -> 0 | C154: =IFERROR(VLOOKUP(A154,'PRJ-ACC'!A:AD,4,FALSE),"") -> WDC10 Button Kit | D154: =IFERROR(VLOOKUP(A154,'PRJ-ACC'!A:AD,5,FALSE),"") -> InstaShow Button Kit - 2x buttons, 1xCradle | E154: =IFERROR(VLOOKUP(A154,'PRJ-ACC'!A:AD,6,FALSE),"") -> 8400460-3526-6 | F154: =IFERROR(VLOOKUP(A154,'PRJ-ACC'!A:AD,7,FALSE),"") -> One Year | G154: =IFERROR(VLOOKUP(A154,'PRJ-ACC'!A:AD,8,FALSE),"") -> 0 | H154: =IFERROR(VLOOKUP(A154,'PRJ-ACC'!A:AD,19,FALSE),"") -> 499
A155: 5J.JLD28.A20 | B155: =IFERROR(VLOOKUP(A155,'PRJ-ACC'!A:AD,3,FALSE),"") -> 0 | C155: =IFERROR(VLOOKUP(A155,'PRJ-ACC'!A:AD,4,FALSE),"") -> WDC10C Button | D155: =IFERROR(VLOOKUP(A155,'PRJ-ACC'!A:AD,5,FALSE),"") -> InstaShow WDC10C Button Kit - 2x buttons, 1xCradle | E155: =IFERROR(VLOOKUP(A155,'PRJ-ACC'!A:AD,6,FALSE),"") -> 8400460-4147-2 | F155: =IFERROR(VLOOKUP(A155,'PRJ-ACC'!A:AD,7,FALSE),"") -> One Year | G155: =IFERROR(VLOOKUP(A155,'PRJ-ACC'!A:AD,8,FALSE),"") -> 0 | H155: =IFERROR(VLOOKUP(A155,'PRJ-ACC'!A:AD,19,FALSE),"") -> 599
A156: 5J.JKJ28.A30 | B156: =IFERROR(VLOOKUP(A156,'PRJ-ACC'!A:AD,3,FALSE),"") -> 0 | C156: =IFERROR(VLOOKUP(A156,'PRJ-ACC'!A:AD,4,FALSE),"") -> WDC20 Button | D156: =IFERROR(VLOOKUP(A156,'PRJ-ACC'!A:AD,5,FALSE),"") -> InstaShow WDC20 Button Kit - 2x HDMI buttons, 1xCradle | E156: =IFERROR(VLOOKUP(A156,'PRJ-ACC'!A:AD,6,FALSE),"") -> 8400460-3464-1 | F156: =IFERROR(VLOOKUP(A156,'PRJ-ACC'!A:AD,7,FALSE),"") -> One Year | G156: =IFERROR(VLOOKUP(A156,'PRJ-ACC'!A:AD,8,FALSE),"") -> 0 | H156: =IFERROR(VLOOKUP(A156,'PRJ-ACC'!A:AD,19,FALSE),"") -> 499
A157: 5J.JKJ28.A60 | B157: =IFERROR(VLOOKUP(A157,'PRJ-ACC'!A:AD,3,FALSE),"") -> 0 | C157: =IFERROR(VLOOKUP(A157,'PRJ-ACC'!A:AD,4,FALSE),"") -> WDC20 Button | D157: =IFERROR(VLOOKUP(A157,'PRJ-ACC'!A:AD,5,FALSE),"") -> InstaShow WDC20 Button Kit - 2x HDMI buttons, 1xCradle (New P/N) | E157: =IFERROR(VLOOKUP(A157,'PRJ-ACC'!A:AD,6,FALSE),"") -> 8400460-3464-1 | F157: =IFERROR(VLOOKUP(A157,'PRJ-ACC'!A:AD,7,FALSE),"") -> One Year | G157: =IFERROR(VLOOKUP(A157,'PRJ-ACC'!A:AD,8,FALSE),"") -> 0 | H157: =IFERROR(VLOOKUP(A157,'PRJ-ACC'!A:AD,19,FALSE),"") -> 499
A158: 5J.JNM28.A20 | B158: =IFERROR(VLOOKUP(A158,'PRJ-ACC'!A:AD,3,FALSE),"") -> 0 | C158: =IFERROR(VLOOKUP(A158,'PRJ-ACC'!A:AD,4,FALSE),"") -> WDC20C Button | D158: =IFERROR(VLOOKUP(A158,'PRJ-ACC'!A:AD,5,FALSE),"") -> InstaShow WDC20C Button Kit - 2x USB-C buttons, 1xCradle | E158: =IFERROR(VLOOKUP(A158,'PRJ-ACC'!A:AD,6,FALSE),"") -> 8400460-4447-3 | F158: =IFERROR(VLOOKUP(A158,'PRJ-ACC'!A:AD,7,FALSE),"") -> One Year | G158: =IFERROR(VLOOKUP(A158,'PRJ-ACC'!A:AD,8,FALSE),"") -> 0 | H158: =IFERROR(VLOOKUP(A158,'PRJ-ACC'!A:AD,19,FALSE),"") -> 599
A159: 5J.JRS28.A30 | B159: =IFERROR(VLOOKUP(A159,'PRJ-ACC'!A:AD,3,FALSE),"") -> 0 | C159: =IFERROR(VLOOKUP(A159,'PRJ-ACC'!A:AD,4,FALSE),"") -> VS20 Button | D159: =IFERROR(VLOOKUP(A159,'PRJ-ACC'!A:AD,5,FALSE),"") -> InstaShow VS20 Button Kit - 2x USB-C buttons, 1xCradle | E159: =IFERROR(VLOOKUP(A159,'PRJ-ACC'!A:AD,6,FALSE),"") -> 8400460-4911-9 | F159: =IFERROR(VLOOKUP(A159,'PRJ-ACC'!A:AD,7,FALSE),"") -> One Year | G159: =IFERROR(VLOOKUP(A159,'PRJ-ACC'!A:AD,8,FALSE),"") -> 0 | H159: =IFERROR(VLOOKUP(A159,'PRJ-ACC'!A:AD,19,FALSE),"") -> 649
A160: 5J.JRR28.A30 | B160: =IFERROR(VLOOKUP(A160,'PRJ-ACC'!A:AD,3,FALSE),"") -> 0 | C160: =IFERROR(VLOOKUP(A160,'PRJ-ACC'!A:AD,4,FALSE),"") -> VS10 Button | D160: =IFERROR(VLOOKUP(A160,'PRJ-ACC'!A:AD,5,FALSE),"") -> InstaShow VS10 Button Kit - 2x USB-C buttons, 1xCradle | E160: =IFERROR(VLOOKUP(A160,'PRJ-ACC'!A:AD,6,FALSE),"") -> 8400460-4830-3 | F160: =IFERROR(VLOOKUP(A160,'PRJ-ACC'!A:AD,7,FALSE),"") -> One Year | G160: =IFERROR(VLOOKUP(A160,'PRJ-ACC'!A:AD,8,FALSE),"") -> 0 | H160: =IFERROR(VLOOKUP(A160,'PRJ-ACC'!A:AD,19,FALSE),"") -> 599
A161: 5J.J8E26.A01 | B161: =IFERROR(VLOOKUP(A161,'PRJ-ACC'!A:AD,3,FALSE),"") -> Limited supply | C161: =IFERROR(VLOOKUP(A161,'PRJ-ACC'!A:AD,4,FALSE),"") -> PD03 Pen Kit | D161: =IFERROR(VLOOKUP(A161,'PRJ-ACC'!A:AD,5,FALSE),"") -> PD3.0 Pen Kit - including Penx1, PD3.0 Dongle, strap, pouch, USB charger cable, charger cradle , QDraw3.0 Software License Key card, spare pen tip, quick start guide, | E161: =IFERROR(VLOOKUP(A161,'PRJ-ACC'!A:AD,6,FALSE),"") -> 8400460-2661-5 | F161: =IFERROR(VLOOKUP(A161,'PRJ-ACC'!A:AD,7,FALSE),"") -> 30 Days DOA | G161: =IFERROR(VLOOKUP(A161,'PRJ-ACC'!A:AD,8,FALSE),"") -> 1 | H161: =IFERROR(VLOOKUP(A161,'PRJ-ACC'!A:AD,19,FALSE),"") -> 200
A162: 5A.JJR26.30E | B162: =IFERROR(VLOOKUP(A162,'PRJ-ACC'!A:AD,3,FALSE),"") -> 0 | C162: =IFERROR(VLOOKUP(A162,'PRJ-ACC'!A:AD,4,FALSE),"") -> PT20 Touch Module | D162: =IFERROR(VLOOKUP(A162,'PRJ-ACC'!A:AD,5,FALSE),"") -> Compatible for PW30U/PW40U Compatible PRJ Models: MW855UST+/MH856UST+/LX890UST(D)/LW890UST(D)/LH890UST(D) | E162: =IFERROR(VLOOKUP(A162,'PRJ-ACC'!A:AD,6,FALSE),"") -> 8400460-3469-6 | F162: =IFERROR(VLOOKUP(A162,'PRJ-ACC'!A:AD,7,FALSE),"") -> One Year | G162: =IFERROR(VLOOKUP(A162,'PRJ-ACC'!A:AD,8,FALSE),"") -> 0 | H162: =IFERROR(VLOOKUP(A162,'PRJ-ACC'!A:AD,19,FALSE),"") -> 450
A163: 5J.K0E28.A2A | B163: =IFERROR(VLOOKUP(A163,'PRJ-ACC'!A:AD,3,FALSE),"") -> Availale in Feb | C163: =IFERROR(VLOOKUP(A163,'PRJ-ACC'!A:AD,4,FALSE),"") -> WDC15 Button Kit | D163: =IFERROR(VLOOKUP(A163,'PRJ-ACC'!A:AD,5,FALSE),"") -> InstaShow WDC15 Button Kit - | E163: =IFERROR(VLOOKUP(A163,'PRJ-ACC'!A:AD,6,FALSE),"") -> 8400460-5290-4 | F163: =IFERROR(VLOOKUP(A163,'PRJ-ACC'!A:AD,7,FALSE),"") -> One Year | G163: =IFERROR(VLOOKUP(A163,'PRJ-ACC'!A:AD,8,FALSE),"") -> 0 | H163: =IFERROR(VLOOKUP(A163,'PRJ-ACC'!A:AD,19,FALSE),"") -> 0
A164: 5J.K0F28.A4A | B164: =IFERROR(VLOOKUP(A164,'PRJ-ACC'!A:AD,3,FALSE),"") -> Availale in June | C164: =IFERROR(VLOOKUP(A164,'PRJ-ACC'!A:AD,4,FALSE),"") -> VS25 Button Kit | D164: =IFERROR(VLOOKUP(A164,'PRJ-ACC'!A:AD,5,FALSE),"") -> InstaShow VS15 Button Kit - | E164: =IFERROR(VLOOKUP(A164,'PRJ-ACC'!A:AD,6,FALSE),"") -> 8400460-5329-1 | F164: =IFERROR(VLOOKUP(A164,'PRJ-ACC'!A:AD,7,FALSE),"") -> One Year | G164: =IFERROR(VLOOKUP(A164,'PRJ-ACC'!A:AD,8,FALSE),"") -> 0 | H164: =IFERROR(VLOOKUP(A164,'PRJ-ACC'!A:AD,19,FALSE),"") -> 0

Sheet BQus_PDP ACC
A1: BenQ America Corp.
A2: ACCESSORY | D2: The lens have the same warranty with projector if purchase along with Projector
A3: Effective: | B3: ='PDP-ACC'!B2 -> 46266
A4: P/N | B4: STATUS | C4: SERIES | D4: PRODUCT DESCRIPTION | E4: UPC CODE | F4: WARRANTY | G4: MAP
A5: PDP Accessory--Others
A6: 5A.FA139.NA2 | B6: =IFERROR(VLOOKUP(A6,'PDP-ACC'!A:Q,2,FALSE),"") -> 0 | C6: =IFERROR(VLOOKUP(A6,'PDP-ACC'!A:Q,3,FALSE),"") -> NC01A | D6: =IFERROR(VLOOKUP(A6,'PDP-ACC'!A:Q,4,FALSE),"") -> NFC cards for RP Series and RM04 series with a vertical punch to accommodate a badge clip (New BenQ education design) | E6: =IFERROR(VLOOKUP(A6,'PDP-ACC'!A:Q,5,FALSE),"") -> 8400460-5023-8 | F6: =IFERROR(VLOOKUP(A6,'PDP-ACC'!A:Q,6,FALSE),"") -> One Year | G6: =IFERROR(VLOOKUP(A6,'PDP-ACC'!A:Q,17,FALSE),"") -> 8
A7: 5A.F8Y28.DE1 | B7: =IFERROR(VLOOKUP(A7,'PDP-ACC'!A:Q,2,FALSE),"") -> 0 | C7: =IFERROR(VLOOKUP(A7,'PDP-ACC'!A:Q,3,FALSE),"") -> WD02AT | D7: =IFERROR(VLOOKUP(A7,'PDP-ACC'!A:Q,4,FALSE),"") -> Wireless dongle for RP03/RM03/RP04/RM04 supports Wi-Fi 6 and Bluetooth | E7: =IFERROR(VLOOKUP(A7,'PDP-ACC'!A:Q,5,FALSE),"") -> 8400460-4686-6 | F7: =IFERROR(VLOOKUP(A7,'PDP-ACC'!A:Q,6,FALSE),"") -> 90 days | G7: =IFERROR(VLOOKUP(A7,'PDP-ACC'!A:Q,17,FALSE),"") -> 77
A8: 5A.FAX06.002 | B8: =IFERROR(VLOOKUP(A8,'PDP-ACC'!A:Q,2,FALSE),"") -> 0 | C8: =IFERROR(VLOOKUP(A8,'PDP-ACC'!A:Q,3,FALSE),"") -> TRY01 | D8: =IFERROR(VLOOKUP(A8,'PDP-ACC'!A:Q,4,FALSE),"") -> Remote control for RM02K/RP02/RM03/CP01K/RP01K/RE01/RP03/RM04/RP04/RE04 | E8: =IFERROR(VLOOKUP(A8,'PDP-ACC'!A:Q,5,FALSE),"") -> 8400460-4561-6 | F8: =IFERROR(VLOOKUP(A8,'PDP-ACC'!A:Q,6,FALSE),"") -> One Year | G8: =IFERROR(VLOOKUP(A8,'PDP-ACC'!A:Q,17,FALSE),"") -> 50
A9: 5A.F7W28.DP1 | B9: =IFERROR(VLOOKUP(A9,'PDP-ACC'!A:Q,2,FALSE),"") -> 0 | C9: =IFERROR(VLOOKUP(A9,'PDP-ACC'!A:Q,3,FALSE),"") -> TDY31 | D9: =IFERROR(VLOOKUP(A9,'PDP-ACC'!A:Q,4,FALSE),"") -> Wireless dongle with BenQ logo for RM02 / RM03 / RP02 / RE01 | E9: =IFERROR(VLOOKUP(A9,'PDP-ACC'!A:Q,5,FALSE),"") -> 8400460-4611-8 | F9: =IFERROR(VLOOKUP(A9,'PDP-ACC'!A:Q,6,FALSE),"") -> 90 days | G9: =IFERROR(VLOOKUP(A9,'PDP-ACC'!A:Q,17,FALSE),"") -> 54
A10: 5A.F7V28.BP2 | B10: =IFERROR(VLOOKUP(A10,'PDP-ACC'!A:Q,2,FALSE),"") -> 0 | C10: =IFERROR(VLOOKUP(A10,'PDP-ACC'!A:Q,3,FALSE),"") -> TWY31 | D10: =IFERROR(VLOOKUP(A10,'PDP-ACC'!A:Q,4,FALSE),"") -> InstaShare Button for RM03/RP03/RP04/RM04/RE04, need to work with TDY31/WD02AT dongle | E10: =IFERROR(VLOOKUP(A10,'PDP-ACC'!A:Q,5,FALSE),"") -> 8400460-4599-9 | F10: =IFERROR(VLOOKUP(A10,'PDP-ACC'!A:Q,6,FALSE),"") -> One Year | G10: =IFERROR(VLOOKUP(A10,'PDP-ACC'!A:Q,17,FALSE),"") -> 329
A11: PDP Accessory--Stylus Pen
A12: 5J.F7C14.001 | B12: =IFERROR(VLOOKUP(A12,'PDP-ACC'!A:Q,2,FALSE),"") -> 0 | C12: =IFERROR(VLOOKUP(A12,'PDP-ACC'!A:Q,3,FALSE),"") -> TPY24 | D12: =IFERROR(VLOOKUP(A12,'PDP-ACC'!A:Q,4,FALSE),"") -> Stylus sets for RE01/RM02K/RM03/RM04 (2pc/box), dual tips (thin and thick) with additional 6 spare thin tips | E12: =IFERROR(VLOOKUP(A12,'PDP-ACC'!A:Q,5,FALSE),"") -> 8400460-4651-4 | F12: =IFERROR(VLOOKUP(A12,'PDP-ACC'!A:Q,6,FALSE),"") -> One Year | G12: =IFERROR(VLOOKUP(A12,'PDP-ACC'!A:Q,17,FALSE),"") -> 44
A13: 5J.F7C14.003 | B13: =IFERROR(VLOOKUP(A13,'PDP-ACC'!A:Q,2,FALSE),"") -> 0 | C13: =IFERROR(VLOOKUP(A13,'PDP-ACC'!A:Q,3,FALSE),"") -> TPY24 | D13: =IFERROR(VLOOKUP(A13,'PDP-ACC'!A:Q,4,FALSE),"") -> Stylus sets for RE01/RM02K/RM03/RM04 (2pc/box), dual tips (thin and thick) with additional 6 spare thin tips | E13: =IFERROR(VLOOKUP(A13,'PDP-ACC'!A:Q,5,FALSE),"") -> 8400460-4651-4 | F13: =IFERROR(VLOOKUP(A13,'PDP-ACC'!A:Q,6,FALSE),"") -> One Year | G13: =IFERROR(VLOOKUP(A13,'PDP-ACC'!A:Q,17,FALSE),"") -> 44
A14: 5J.F7C14.004 | B14: =IFERROR(VLOOKUP(A14,'PDP-ACC'!A:Q,2,FALSE),"") -> 0 | C14: =IFERROR(VLOOKUP(A14,'PDP-ACC'!A:Q,3,FALSE),"") -> TPY24 | D14: =IFERROR(VLOOKUP(A14,'PDP-ACC'!A:Q,4,FALSE),"") -> Stylus sets for RE01/RM02K/RM03/RM04 (2pc/box), dual tips (thin and thick) with additional 6 spare thin tips | E14: =IFERROR(VLOOKUP(A14,'PDP-ACC'!A:Q,5,FALSE),"") -> 8400460-4651-4 | F14: =IFERROR(VLOOKUP(A14,'PDP-ACC'!A:Q,6,FALSE),"") -> One Year | G14: =IFERROR(VLOOKUP(A14,'PDP-ACC'!A:Q,17,FALSE),"") -> 44
A15: 5J.F5M14.001 | B15: =IFERROR(VLOOKUP(A15,'PDP-ACC'!A:Q,2,FALSE),"") -> 0 | C15: =IFERROR(VLOOKUP(A15,'PDP-ACC'!A:Q,3,FALSE),"") -> TPY11 | D15: =IFERROR(VLOOKUP(A15,'PDP-ACC'!A:Q,4,FALSE),"") -> Stylus sets for CP series | E15: =IFERROR(VLOOKUP(A15,'PDP-ACC'!A:Q,5,FALSE),"") -> 8400460-4307-0 | F15: =IFERROR(VLOOKUP(A15,'PDP-ACC'!A:Q,6,FALSE),"") -> One Year | G15: =IFERROR(VLOOKUP(A15,'PDP-ACC'!A:Q,17,FALSE),"") -> 274
A16: 5A.F9L26.011 | B16: =IFERROR(VLOOKUP(A16,'PDP-ACC'!A:Q,2,FALSE),"") -> 0 | C16: =IFERROR(VLOOKUP(A16,'PDP-ACC'!A:Q,3,FALSE),"") -> PT01GN | D16: =IFERROR(VLOOKUP(A16,'PDP-ACC'!A:Q,4,FALSE),"") -> Stylus sets for RP01K, RP02, RP03, RP04, dual tips (thin and thick) with additional 6 spare thin tips and NFC tag. | E16: =IFERROR(VLOOKUP(A16,'PDP-ACC'!A:Q,5,FALSE),"") -> 8400460-4794-8 | F16: =IFERROR(VLOOKUP(A16,'PDP-ACC'!A:Q,6,FALSE),"") -> One Year | G16: =IFERROR(VLOOKUP(A16,'PDP-ACC'!A:Q,17,FALSE),"") -> 83
A17: 5A.F9L26.002 | B17: =IFERROR(VLOOKUP(A17,'PDP-ACC'!A:Q,2,FALSE),"") -> 0 | C17: =IFERROR(VLOOKUP(A17,'PDP-ACC'!A:Q,3,FALSE),"") -> PT01GN | D17: =IFERROR(VLOOKUP(A17,'PDP-ACC'!A:Q,4,FALSE),"") -> Stylus sets for RP01K, RP02, RP03, RP04, dual tips (thin and thick) with additional 6 spare thin tips and NFC tag. | E17: =IFERROR(VLOOKUP(A17,'PDP-ACC'!A:Q,5,FALSE),"") -> 8400460-4794-8 | F17: =IFERROR(VLOOKUP(A17,'PDP-ACC'!A:Q,6,FALSE),"") -> One Year | G17: =IFERROR(VLOOKUP(A17,'PDP-ACC'!A:Q,17,FALSE),"") -> 83
A18: PDP Accessory--OPS
A19: 5A.F9630.7J2 | B19: =IFERROR(VLOOKUP(A19,'PDP-ACC'!A:Q,2,FALSE),"") -> 0 | C19: =IFERROR(VLOOKUP(A19,'PDP-ACC'!A:Q,3,FALSE),"") -> TEY41 | D19: =IFERROR(VLOOKUP(A19,'PDP-ACC'!A:Q,4,FALSE),"") -> OPS Slot-in PC For RP01 / RP02 /RP03 /RP04 / RM04 / RM02K / RM03 / RE01 /RE03 / RE04FV2 (Intel 12th gen processor, Core-i7, 16GB RAM, 256GB SSD, Windows Trial License) | E19: =IFERROR(VLOOKUP(A19,'PDP-ACC'!A:Q,5,FALSE),"") -> 8400460-4917-1 | F19: =IFERROR(VLOOKUP(A19,'PDP-ACC'!A:Q,6,FALSE),"") -> One Year | G19: =IFERROR(VLOOKUP(A19,'PDP-ACC'!A:Q,17,FALSE),"") -> 1649
A20: 5A.F9630.4J2 | B20: =IFERROR(VLOOKUP(A20,'PDP-ACC'!A:Q,2,FALSE),"") -> 0 | C20: =IFERROR(VLOOKUP(A20,'PDP-ACC'!A:Q,3,FALSE),"") -> TEY41-i516GB | D20: =IFERROR(VLOOKUP(A20,'PDP-ACC'!A:Q,4,FALSE),"") -> OPS Slot-in PC For RP01 / RP02 /RP03 /RP04. RM04 / RM02K / RM03 / RE01 /RE03 (Intel 12th gen processor, Core-i5, 16GB RAM, 256GB SSD, Windows Trial License) | E20: =IFERROR(VLOOKUP(A20,'PDP-ACC'!A:Q,5,FALSE),"") -> 8400460-4950-8 | F20: =IFERROR(VLOOKUP(A20,'PDP-ACC'!A:Q,6,FALSE),"") -> One Year | G20: =IFERROR(VLOOKUP(A20,'PDP-ACC'!A:Q,17,FALSE),"") -> 1100
A21: 5A.F9630.4F2 | B21: =IFERROR(VLOOKUP(A21,'PDP-ACC'!A:Q,2,FALSE),"") -> 0 | C21: =IFERROR(VLOOKUP(A21,'PDP-ACC'!A:Q,3,FALSE),"") -> TEY41-i58GB | D21: =IFERROR(VLOOKUP(A21,'PDP-ACC'!A:Q,4,FALSE),"") -> OPS Slot-in PC For RP01 / RP02 /RP03 /RP04 / RM04 / RM02K / RM03 / RE01 /RE03 / RE04FV2 (Intel 12th gen processor, Core-i5, 8GB RAM, 256GB SSD, Windows Trial License) | E21: =IFERROR(VLOOKUP(A21,'PDP-ACC'!A:Q,5,FALSE),"") -> 8400460-4910-2 | F21: =IFERROR(VLOOKUP(A21,'PDP-ACC'!A:Q,6,FALSE),"") -> One Year | G21: =IFERROR(VLOOKUP(A21,'PDP-ACC'!A:Q,17,FALSE),"") -> 999
A22: 5A.F9M30.RA1 | B22: =IFERROR(VLOOKUP(A22,'PDP-ACC'!A:Q,2,FALSE),"") -> 0 | C22: =IFERROR(VLOOKUP(A22,'PDP-ACC'!A:Q,3,FALSE),"") -> TEY1A | D22: =IFERROR(VLOOKUP(A22,'PDP-ACC'!A:Q,4,FALSE),"") -> BenQ Android OPS TEY1A BLACK ANDROID 13, 8G/128G, GOOGLE CERTIFICATION OPS for RP03 and RM03 | E22: =IFERROR(VLOOKUP(A22,'PDP-ACC'!A:Q,5,FALSE),"") -> 8400460-4972-0 | F22: =IFERROR(VLOOKUP(A22,'PDP-ACC'!A:Q,6,FALSE),"") -> One Year | G22: =IFERROR(VLOOKUP(A22,'PDP-ACC'!A:Q,17,FALSE),"") -> 567
A23: PDP Accessory--Trolley
A24: 5A.FAE10.001 | B24: =IFERROR(VLOOKUP(A24,'PDP-ACC'!A:Q,2,FALSE),"") -> 0 | C24: =IFERROR(VLOOKUP(A24,'PDP-ACC'!A:Q,3,FALSE),"") -> IT1002 | D24: =IFERROR(VLOOKUP(A24,'PDP-ACC'!A:Q,4,FALSE),"") -> Trolley for all RP/RM Series, support 55"-98" displays | E24: =IFERROR(VLOOKUP(A24,'PDP-ACC'!A:Q,5,FALSE),"") -> 8400460-5073-3 | F24: =IFERROR(VLOOKUP(A24,'PDP-ACC'!A:Q,6,FALSE),"") -> One Year | G24: =IFERROR(VLOOKUP(A24,'PDP-ACC'!A:Q,17,FALSE),"") -> 667
A25: 5J.F5M10.001 | B25: =IFERROR(VLOOKUP(A25,'PDP-ACC'!A:Q,2,FALSE),"") -> 0 | C25: =IFERROR(VLOOKUP(A25,'PDP-ACC'!A:Q,3,FALSE),"") -> TTY21 | D25: =IFERROR(VLOOKUP(A25,'PDP-ACC'!A:Q,4,FALSE),"") -> Rotating trolley for ST4302S, ST5502S, IL4301, IL5501, SL4302K, SL5502K, SL6502K | E25: =IFERROR(VLOOKUP(A25,'PDP-ACC'!A:Q,5,FALSE),"") -> 8400460-4416-9 | F25: =IFERROR(VLOOKUP(A25,'PDP-ACC'!A:Q,6,FALSE),"") -> One Year | G25: =IFERROR(VLOOKUP(A25,'PDP-ACC'!A:Q,17,FALSE),"") -> 879
A26: 5J.BQA10.017 | B26: =IFERROR(VLOOKUP(A26,'PDP-ACC'!A:Q,2,FALSE),"") -> 0 | C26: =IFERROR(VLOOKUP(A26,'PDP-ACC'!A:Q,3,FALSE),"") -> IT1101-B | D26: =IFERROR(VLOOKUP(A26,'PDP-ACC'!A:Q,4,FALSE),"") -> BalanceBox® Mobile stand base compatible with 65 -86 in panels | E26: =IFERROR(VLOOKUP(A26,'PDP-ACC'!A:Q,5,FALSE),"") -> BalanceBox's own | F26: =IFERROR(VLOOKUP(A26,'PDP-ACC'!A:Q,6,FALSE),"") -> One Year | G26: =IFERROR(VLOOKUP(A26,'PDP-ACC'!A:Q,17,FALSE),"") -> 499
A27: 5A.FAR10.NE1 | B27: =IFERROR(VLOOKUP(A27,'PDP-ACC'!A:Q,2,FALSE),"") -> 0 | C27: =IFERROR(VLOOKUP(A27,'PDP-ACC'!A:Q,3,FALSE),"") -> MT02E | D27: =IFERROR(VLOOKUP(A27,'PDP-ACC'!A:Q,4,FALSE),"") -> BenQ motorized cart for 65"-86" panels (VESA 800 x 600 mm) | E27: =IFERROR(VLOOKUP(A27,'PDP-ACC'!A:Q,5,FALSE),"") -> 8400460-5118-1 | F27: =IFERROR(VLOOKUP(A27,'PDP-ACC'!A:Q,6,FALSE),"") -> One Year | G27: =IFERROR(VLOOKUP(A27,'PDP-ACC'!A:Q,17,FALSE),"") -> 1400
A28: 5J.FAR10.001 | B28: =IFERROR(VLOOKUP(A28,'PDP-ACC'!A:Q,2,FALSE),"") -> 0 | C28: =IFERROR(VLOOKUP(A28,'PDP-ACC'!A:Q,3,FALSE),"") -> MT02E Tray | D28: =IFERROR(VLOOKUP(A28,'PDP-ACC'!A:Q,4,FALSE),"") -> Laptop tray for MT02E | E28: =IFERROR(VLOOKUP(A28,'PDP-ACC'!A:Q,5,FALSE),"") -> 0 | F28: =IFERROR(VLOOKUP(A28,'PDP-ACC'!A:Q,6,FALSE),"") -> One Year | G28: =IFERROR(VLOOKUP(A28,'PDP-ACC'!A:Q,17,FALSE),"") -> 76
A29: PDP Accessory--Camera
A30: 5A.F7T14.004 | B30: =IFERROR(VLOOKUP(A30,'PDP-ACC'!A:Q,2,FALSE),"") -> 0 | C30: =IFERROR(VLOOKUP(A30,'PDP-ACC'!A:Q,3,FALSE),"") -> DVY31 | D30: =IFERROR(VLOOKUP(A30,'PDP-ACC'!A:Q,4,FALSE),"") -> 1080p camera for video conference (Zoom Certified) | E30: =IFERROR(VLOOKUP(A30,'PDP-ACC'!A:Q,5,FALSE),"") -> 8400460-4589-0 | F30: =IFERROR(VLOOKUP(A30,'PDP-ACC'!A:Q,6,FALSE),"") -> One Year | G30: =IFERROR(VLOOKUP(A30,'PDP-ACC'!A:Q,17,FALSE),"") -> 120
A31: 5A.F7S14.005 | B31: =IFERROR(VLOOKUP(A31,'PDP-ACC'!A:Q,2,FALSE),"") -> 0 | C31: =IFERROR(VLOOKUP(A31,'PDP-ACC'!A:Q,3,FALSE),"") -> DVY32 | D31: =IFERROR(VLOOKUP(A31,'PDP-ACC'!A:Q,4,FALSE),"") -> 4K camera for video conference (Zoom Certified) | E31: =IFERROR(VLOOKUP(A31,'PDP-ACC'!A:Q,5,FALSE),"") -> 8400460-4590-6 | F31: =IFERROR(VLOOKUP(A31,'PDP-ACC'!A:Q,6,FALSE),"") -> One Year | G31: =IFERROR(VLOOKUP(A31,'PDP-ACC'!A:Q,17,FALSE),"") -> 549
A32: 5A.F9V14.NE1 | B32: =IFERROR(VLOOKUP(A32,'PDP-ACC'!A:Q,2,FALSE),"") -> 0 | C32: =IFERROR(VLOOKUP(A32,'PDP-ACC'!A:Q,3,FALSE),"") -> DV01K | D32: =IFERROR(VLOOKUP(A32,'PDP-ACC'!A:Q,4,FALSE),"") -> 4K camera featured with active-noise cancellation and auto framing. Compatible with RP04 and RM04. NOT compatible with other boards. | E32: =IFERROR(VLOOKUP(A32,'PDP-ACC'!A:Q,5,FALSE),"") -> 8400460-4995-9 | F32: =IFERROR(VLOOKUP(A32,'PDP-ACC'!A:Q,6,FALSE),"") -> One Year | G32: =IFERROR(VLOOKUP(A32,'PDP-ACC'!A:Q,17,FALSE),"") -> 649
A33: 5A.F9V14.NE2 | B33: =IFERROR(VLOOKUP(A33,'PDP-ACC'!A:Q,2,FALSE),"") -> 0 | C33: =IFERROR(VLOOKUP(A33,'PDP-ACC'!A:Q,3,FALSE),"") -> DV01K | D33: =IFERROR(VLOOKUP(A33,'PDP-ACC'!A:Q,4,FALSE),"") -> 4K camera featured with active-noise cancellation and auto framing. Compatible with RP04 and RM04. NOT compatible with other boards. | E33: =IFERROR(VLOOKUP(A33,'PDP-ACC'!A:Q,5,FALSE),"") -> 8400460-4995-9 | F33: =IFERROR(VLOOKUP(A33,'PDP-ACC'!A:Q,6,FALSE),"") -> One Year | G33: =IFERROR(VLOOKUP(A33,'PDP-ACC'!A:Q,17,FALSE),"") -> 649
A34: 5J.F7310.002 | B34: =IFERROR(VLOOKUP(A34,'PDP-ACC'!A:Q,2,FALSE),"") -> 36 units left | C34: =IFERROR(VLOOKUP(A34,'PDP-ACC'!A:Q,3,FALSE),"") -> Camera L-Mount | D34: =IFERROR(VLOOKUP(A34,'PDP-ACC'!A:Q,4,FALSE),"") -> Camera L-Type mount (TV mount), compatible with DVY31, DVY32 | E34: =IFERROR(VLOOKUP(A34,'PDP-ACC'!A:Q,5,FALSE),"") -> 8400460-4507-4 | F34: =IFERROR(VLOOKUP(A34,'PDP-ACC'!A:Q,6,FALSE),"") -> One Year | G34: =IFERROR(VLOOKUP(A34,'PDP-ACC'!A:Q,17,FALSE),"") -> 50
